BEGIN:VCALENDAR
PRODID:NingEventWidget-v1
VERSION:2.0
METHOD:PUBLISH
BEGIN:VTIMEZONE
TZID:America/Los_Angeles
X-LIC-LOCATION:America/Los_Angeles
BEGIN:DAYLIGHT
TZOFFSETFROM:-0800
TZOFFSETTO:-0700
TZNAME:PDT
DTSTART:19700308T020000
RRULE:FREQ=YEARLY;BYMONTH=3;BYDAY=2SU
END:DAYLIGHT
BEGIN:STANDARD
TZOFFSETFROM:-0700
TZOFFSETTO:-0800
TZNAME:PST
DTSTART:19701101T020000
RRULE:FREQ=YEARLY;BYMONTH=11;BYDAY=1SU
END:STANDARD
END:VTIMEZONE
BEGIN:VEVENT
UID:1464587:Event:261035
DTSTAMP:20260421T115020Z
SUMMARY:Tony! Toni! Toné! (WIN TICKETS)
DESCRIPTION:\n\nTony! Toni! Toné!\nDec 19-Dec 22, 2013\n \nThurday, 
 December 19 8pm & 10pm $34\nFriday, December 20 8pm & 10pm $37\nSaturd
 ay, December 21 7:30pm & 9:30pm $39\nSunday, December 22 7pm & 9pm $34
 \n\nFor more information visit https://trueskool.com/events/tony-toni-
 tone-3
DTSTART;TZID=America/Los_Angeles:20131219T200000
DTEND;TZID=America/Los_Angeles:20131222T213000
CATEGORIES:oakland
LOCATION:Yoshi's, Oakland
WEBSITE:http://yoshis.inticketing.com/events/311186/Thu%208pm%20-%20TO
 NY!%20TONI!%20TONE!
URL:http://yoshis.inticketing.com/events/311186/Thu%208pm%20-%20TONY!%
 20TONI!%20TONE!
CONTACT:
ORGANIZER;CN="Editor's Pick":https://trueskool.com/profile/RentheVinyl
 Archaeologist
ATTACH;FMTTYPE="image/jpeg":http://storage.ning.com/topology/rest/1.0/
 file/get/2247932172?profile=original
ATTENDEE;ROLE=REQ-PARTICIPANT;PARTSTAT=ACCEPTED;RSVP=TRUE;CN="Tina Byr
 ne":https://trueskool.com/profile/TinaByrne
ATTENDEE;ROLE=REQ-PARTICIPANT;PARTSTAT=ACCEPTED;RSVP=TRUE;CN="Jennifer
  Adams":https://trueskool.com/profile/JenniferAdams
ATTENDEE;ROLE=REQ-PARTICIPANT;PARTSTAT=ACCEPTED;RSVP=TRUE;CN="Sheri A 
 Palmer":https://trueskool.com/profile/SheriAPalmer
ATTENDEE;ROLE=REQ-PARTICIPANT;PARTSTAT=ACCEPTED;RSVP=TRUE;CN="Sarah - 
 Reggae Gyals":https://trueskool.com/profile/SarahReggaeGyals
ATTENDEE;ROLE=REQ-PARTICIPANT;PARTSTAT=ACCEPTED;RSVP=TRUE;CN="Andrea B
 arros":https://trueskool.com/profile/AndreaBarros
ATTENDEE;ROLE=REQ-PARTICIPANT;PARTSTAT=ACCEPTED;RSVP=TRUE;CN="Iris E."
 :https://trueskool.com/profile/IrisE
ATTENDEE;ROLE=REQ-PARTICIPANT;PARTSTAT=ACCEPTED;RSVP=TRUE;CN="Jennifer
  Scroggins":https://trueskool.com/profile/JenniferScroggins
ATTENDEE;ROLE=REQ-PARTICIPANT;PARTSTAT=ACCEPTED;RSVP=TRUE;CN=Lena:http
 s://trueskool.com/profile/Lena
ATTENDEE;ROLE=REQ-PARTICIPANT;PARTSTAT=ACCEPTED;RSVP=TRUE;CN="Amanda P
 anda":https://trueskool.com/profile/hierohead
ATTENDEE;ROLE=REQ-PARTICIPANT;PARTSTAT=ACCEPTED;RSVP=TRUE;CN="Huy Hoan
 g":https://trueskool.com/profile/HuyHoang
ATTENDEE;ROLE=REQ-PARTICIPANT;PARTSTAT=ACCEPTED;RSVP=TRUE;CN="Demetria
  Lawrence":https://trueskool.com/profile/DemetriaLawrence
ATTENDEE;ROLE=REQ-PARTICIPANT;PARTSTAT=ACCEPTED;RSVP=TRUE;CN=Deepak:ht
 tps://trueskool.com/profile/Deepak
ATTENDEE;ROLE=REQ-PARTICIPANT;PARTSTAT=ACCEPTED;RSVP=TRUE;CN="Joy Pier
 re":https://trueskool.com/profile/JoyPierre
ATTENDEE;ROLE=REQ-PARTICIPANT;PARTSTAT=ACCEPTED;RSVP=TRUE;CN=J:https:/
 /trueskool.com/profile/J321
ATTENDEE;ROLE=REQ-PARTICIPANT;PARTSTAT=ACCEPTED;RSVP=TRUE;CN="Eric Dur
 an":https://trueskool.com/profile/EricDuran
ATTENDEE;ROLE=REQ-PARTICIPANT;PARTSTAT=ACCEPTED;RSVP=TRUE;CN=Sachi:htt
 ps://trueskool.com/profile/Sachi
ATTENDEE;ROLE=REQ-PARTICIPANT;PARTSTAT=ACCEPTED;RSVP=TRUE;CN="Gordon C
 aragan":https://trueskool.com/profile/GordonCaragan
ATTENDEE;ROLE=REQ-PARTICIPANT;PARTSTAT=ACCEPTED;RSVP=TRUE;CN=Marcia:ht
 tps://trueskool.com/profile/MarciaG
ATTENDEE;ROLE=REQ-PARTICIPANT;PARTSTAT=ACCEPTED;RSVP=TRUE;CN="Frank Vi
 loria":https://trueskool.com/profile/DJILLusive
ATTENDEE;ROLE=REQ-PARTICIPANT;PARTSTAT=ACCEPTED;RSVP=TRUE;CN="Elisa Bj
 eldanes":https://trueskool.com/profile/ElisaBjeldanes
ATTENDEE;ROLE=REQ-PARTICIPANT;PARTSTAT=ACCEPTED;RSVP=TRUE;CN="Chris Ti
 ch":https://trueskool.com/profile/ChrisTich
ATTENDEE;ROLE=REQ-PARTICIPANT;PARTSTAT=ACCEPTED;RSVP=TRUE;CN="Brianna 
 M. Sylvers":https://trueskool.com/profile/BriannaMSylvers
ATTENDEE;ROLE=REQ-PARTICIPANT;PARTSTAT=ACCEPTED;RSVP=TRUE;CN="Kimon Fl
 anagan":https://trueskool.com/profile/KimonFlanagan
ATTENDEE;ROLE=REQ-PARTICIPANT;PARTSTAT=ACCEPTED;RSVP=TRUE;CN="Editor's
  Pick":https://trueskool.com/profile/RentheVinylArchaeologist
ATTENDEE;ROLE=REQ-PARTICIPANT;PARTSTAT=TENTATIVE;RSVP=TRUE;CN=tonybone
 z:https://trueskool.com/profile/tonybonez
END:VEVENT
END:VCALENDAR
