BEGIN:VCALENDAR
PRODID:NingEventWidget-v1
VERSION:2.0
METHOD:PUBLISH
BEGIN:VTIMEZONE
TZID:America/Los_Angeles
X-LIC-LOCATION:America/Los_Angeles
BEGIN:DAYLIGHT
TZOFFSETFROM:-0800
TZOFFSETTO:-0700
TZNAME:PDT
DTSTART:19700308T020000
RRULE:FREQ=YEARLY;BYMONTH=3;BYDAY=2SU
END:DAYLIGHT
BEGIN:STANDARD
TZOFFSETFROM:-0700
TZOFFSETTO:-0800
TZNAME:PST
DTSTART:19701101T020000
RRULE:FREQ=YEARLY;BYMONTH=11;BYDAY=1SU
END:STANDARD
END:VTIMEZONE
BEGIN:VEVENT
UID:1464587:Event:376390
DTSTAMP:20260421T134102Z
SUMMARY:Tony Saunders Presents BREAK DOWN MEDIA: The Live Filming of t
 he Premier Episode on 6-25-14
DESCRIPTION:This Wednesday Night June 25th, 2014 at Georges Nightclub,
  Industry Vetertan Tony Saunders Presents BREAK DOWN MEDIA: The Live F
 ilming of the Premier Episode on 6-25-14 @ George's Nightclub.\nÂ \nIf
  you are talented and want to take your career to the next level you w
 ould want to show up and let us see your act. If you are a musician, s
 inger or songwriter please come out and join us. In 2 weeks we will be
  filming for the show BREAK DOWN MEDIA and if you would like to be on 
 one of the premier episodes you need to show us your act this week.\nÂ
  \nWindshield Cowboys, Kelly Peterson, Harold Day you are all schedule
 d to be filmed for the first episode so be ready!!!!!Â \nÂ \nYou too c
 an be on this initial show..... Â Â Â Â Â Â Â Â Â Â Â Â Â Â Â Â Â \nÂ 
 \n\nContact Info:\n\n\nFree City PR & Marketing\n\n\nhttp://freecity.c
 o\n\n\n\n\n\nFor Press Inquires please contact Free City PR & Marketin
 g at info@freecity.co or call 415-226-8435 for all press related inqui
 ries.\n\n\n\n\n\nFor more information visit https://trueskool.com/even
 ts/tony-saunders-presents-break-down-media-the-live-filming-of-the
DTSTART;TZID=America/Los_Angeles:20140625T200000
DTEND;TZID=America/Los_Angeles:20140626T010000
CATEGORIES:tony, saunders, freecity, audition, music, live, performanc
 e
LOCATION:Georges Nightclub, San Rafael, CA
WEBSITE:
URL:
CONTACT:415-226-0262
ORGANIZER:Tony Saunders
ATTACH;FMTTYPE="image/jpeg":
ATTENDEE;ROLE=REQ-PARTICIPANT;PARTSTAT=ACCEPTED;RSVP=TRUE;CN="Makaela 
 Susnow":https://trueskool.com/profile/MakaelaSusnow
END:VEVENT
END:VCALENDAR
