BEGIN:VCALENDAR
PRODID:NingEventWidget-v1
VERSION:2.0
METHOD:PUBLISH
BEGIN:VTIMEZONE
TZID:America/Los_Angeles
X-LIC-LOCATION:America/Los_Angeles
BEGIN:DAYLIGHT
TZOFFSETFROM:-0800
TZOFFSETTO:-0700
TZNAME:PDT
DTSTART:19700308T020000
RRULE:FREQ=YEARLY;BYMONTH=3;BYDAY=2SU
END:DAYLIGHT
BEGIN:STANDARD
TZOFFSETFROM:-0700
TZOFFSETTO:-0800
TZNAME:PST
DTSTART:19701101T020000
RRULE:FREQ=YEARLY;BYMONTH=11;BYDAY=1SU
END:STANDARD
END:VTIMEZONE
BEGIN:VEVENT
UID:1464587:Event:154234
DTSTAMP:20260421T051221Z
SUMMARY:Tony Humphries (4 hour set) w/ DJ David Harness
DESCRIPTION:\n\nFor more information visit https://trueskool.com/event
 s/tony-humphries-4-hour-set-w-dj-david-harness
DTSTART;TZID=America/Los_Angeles:20130105T210000
DTEND;TZID=America/Los_Angeles:20130106T020000
CATEGORIES:"bay area", "san francisco"
LOCATION:Mighty, SF
WEBSITE:https://www.facebook.com/events/422725531131894
URL:https://www.facebook.com/events/422725531131894
CONTACT:
ORGANIZER:Mighty
ATTACH;FMTTYPE="image/jpeg":http://storage.ning.com/topology/rest/1.0/
 file/get/2247932004?profile=original
ATTENDEE;ROLE=REQ-PARTICIPANT;PARTSTAT=ACCEPTED;RSVP=TRUE;CN="Ren the 
 Vinyl Archaeologist":https://trueskool.com/profile/xh51jvilojur
END:VEVENT
END:VCALENDAR
