BEGIN:VCALENDAR
PRODID:NingEventWidget-v1
VERSION:2.0
METHOD:PUBLISH
BEGIN:VTIMEZONE
TZID:America/Los_Angeles
X-LIC-LOCATION:America/Los_Angeles
BEGIN:DAYLIGHT
TZOFFSETFROM:-0800
TZOFFSETTO:-0700
TZNAME:PDT
DTSTART:19700308T020000
RRULE:FREQ=YEARLY;BYMONTH=3;BYDAY=2SU
END:DAYLIGHT
BEGIN:STANDARD
TZOFFSETFROM:-0700
TZOFFSETTO:-0800
TZNAME:PST
DTSTART:19701101T020000
RRULE:FREQ=YEARLY;BYMONTH=11;BYDAY=1SU
END:STANDARD
END:VTIMEZONE
BEGIN:VEVENT
UID:1464587:Event:228478
DTSTAMP:20260421T004135Z
SUMMARY:Toni Braxton (MIAMI)
DESCRIPTION:\nJames L Knight CenterMiami, FL08:00 PM\n\nToni Braxton\
 nFind Tickets »\n\n\n\n\nFor more information visit https://trueskoo
 l.com/events/toni-braxton-miami
DTSTART;TZID=America/Los_Angeles:20130829T200000
DTEND;TZID=America/Los_Angeles:20130829T230000
CATEGORIES:miami, florida
LOCATION:James L Knight Center, Miami
WEBSITE:http://www.ticketmaster.com/toni-braxton-miami-florida-08-29-2
 013/event/0D004AB6EAAC75C7?artistid=876743&majorcatid=10001&minorcatid
 =202
URL:http://www.ticketmaster.com/toni-braxton-miami-florida-08-29-2013/
 event/0D004AB6EAAC75C7?artistid=876743&majorcatid=10001&minorcatid=202
CONTACT:
ORGANIZER;CN="Editor's Pick":https://trueskool.com/profile/RentheVinyl
 Archaeologist
ATTACH;FMTTYPE="image/jpeg":http://storage.ning.com/topology/rest/1.0/
 file/get/2247944777?profile=original
ATTENDEE;ROLE=REQ-PARTICIPANT;PARTSTAT=ACCEPTED;RSVP=TRUE;CN="Editor's
  Pick":https://trueskool.com/profile/RentheVinylArchaeologist
END:VEVENT
END:VCALENDAR
