BEGIN:VCALENDAR
PRODID:NingEventWidget-v1
VERSION:2.0
METHOD:PUBLISH
BEGIN:VTIMEZONE
TZID:America/Los_Angeles
X-LIC-LOCATION:America/Los_Angeles
BEGIN:DAYLIGHT
TZOFFSETFROM:-0800
TZOFFSETTO:-0700
TZNAME:PDT
DTSTART:19700308T020000
RRULE:FREQ=YEARLY;BYMONTH=3;BYDAY=2SU
END:DAYLIGHT
BEGIN:STANDARD
TZOFFSETFROM:-0700
TZOFFSETTO:-0800
TZNAME:PST
DTSTART:19701101T020000
RRULE:FREQ=YEARLY;BYMONTH=11;BYDAY=1SU
END:STANDARD
END:VTIMEZONE
BEGIN:VEVENT
UID:1464587:Event:229637
DTSTAMP:20260421T083013Z
SUMMARY:Toni Braxton (Las Vegas)
DESCRIPTION:\nPearl Concert Theater at Palms Casino ResortLas Vegas, 
 NV08:00 PM\n\nToni Braxton\nFind Tickets »\n\n\n\n\nFor more informa
 tion visit https://trueskool.com/events/toni-braxton-las-vegas
DTSTART;TZID=America/Los_Angeles:20130809T200000
DTEND;TZID=America/Los_Angeles:20130809T230000
CATEGORIES:"las vegas", nevada
LOCATION:Pearl Concert Theater at Palms Casino Resort, Las Vegas
WEBSITE:http://www.ticketmaster.com/toni-braxton-las-vegas-nevada-08-0
 9-2013/event/17004AB6714C3612?artistid=876743&majorcatid=10001&minorca
 tid=202&tm_link=artist_msg-0_17004AB6714C3612
URL:http://www.ticketmaster.com/toni-braxton-las-vegas-nevada-08-09-20
 13/event/17004AB6714C3612?artistid=876743&majorcatid=10001&minorcatid=
 202&tm_link=artist_msg-0_17004AB6714C3612
CONTACT:
ORGANIZER;CN="Editor's Pick":https://trueskool.com/profile/RentheVinyl
 Archaeologist
ATTACH;FMTTYPE="image/jpeg":http://storage.ning.com/topology/rest/1.0/
 file/get/2247944777?profile=original
ATTENDEE;ROLE=REQ-PARTICIPANT;PARTSTAT=ACCEPTED;RSVP=TRUE;CN="Editor's
  Pick":https://trueskool.com/profile/RentheVinylArchaeologist
END:VEVENT
END:VCALENDAR
