BEGIN:VCALENDAR
PRODID:NingEventWidget-v1
VERSION:2.0
METHOD:PUBLISH
BEGIN:VTIMEZONE
TZID:America/Los_Angeles
X-LIC-LOCATION:America/Los_Angeles
BEGIN:DAYLIGHT
TZOFFSETFROM:-0800
TZOFFSETTO:-0700
TZNAME:PDT
DTSTART:19700308T020000
RRULE:FREQ=YEARLY;BYMONTH=3;BYDAY=2SU
END:DAYLIGHT
BEGIN:STANDARD
TZOFFSETFROM:-0700
TZOFFSETTO:-0800
TZNAME:PST
DTSTART:19701101T020000
RRULE:FREQ=YEARLY;BYMONTH=11;BYDAY=1SU
END:STANDARD
END:VTIMEZONE
BEGIN:VEVENT
UID:1464587:Event:666028
DTSTAMP:20260421T082823Z
SUMMARY:Tokimonsta
DESCRIPTION:TOKIMONSTA\r\nMezzanineSan Francisco, CAWednesday, Septemb
 er 20, 2017Show: 9:00pm\r\nThis event is 21 and over\r\n$22.00 – Gen
 eral Admission (Advance)$25.00 – General Admission (Door)\n\nFor mor
 e information visit https://trueskool.com/events/tokimonsta
DTSTART;TZID=America/Los_Angeles:20170920T210000
DTEND;TZID=America/Los_Angeles:20170920T230000
CATEGORIES:"san francisco", oakland, berkley, "san jose", "bay area"
LOCATION:Mezzanine, San Francisco
WEBSITE:http://www.ticketmaster.com/event/1C0052D3BA51452A?camefrom=CF
 C_ANOTHERPLANET_web&amp;brand=anotherplanet
URL:http://www.ticketmaster.com/event/1C0052D3BA51452A?camefrom=CFC_AN
 OTHERPLANET_web&amp;brand=anotherplanet
CONTACT:
ORGANIZER;CN="Editor's Pick":https://trueskool.com/profile/RentheVinyl
 Archaeologist
ATTACH;FMTTYPE="image/jpeg":http://storage.ning.com/topology/rest/1.0/
 file/get/2247999281?profile=original
ATTENDEE;ROLE=REQ-PARTICIPANT;PARTSTAT=ACCEPTED;RSVP=TRUE;CN="Editor's
  Pick":https://trueskool.com/profile/RentheVinylArchaeologist
END:VEVENT
END:VCALENDAR
