BEGIN:VCALENDAR
PRODID:NingEventWidget-v1
VERSION:2.0
METHOD:PUBLISH
BEGIN:VTIMEZONE
TZID:America/Los_Angeles
X-LIC-LOCATION:America/Los_Angeles
BEGIN:DAYLIGHT
TZOFFSETFROM:-0800
TZOFFSETTO:-0700
TZNAME:PDT
DTSTART:19700308T020000
RRULE:FREQ=YEARLY;BYMONTH=3;BYDAY=2SU
END:DAYLIGHT
BEGIN:STANDARD
TZOFFSETFROM:-0700
TZOFFSETTO:-0800
TZNAME:PST
DTSTART:19701101T020000
RRULE:FREQ=YEARLY;BYMONTH=11;BYDAY=1SU
END:STANDARD
END:VTIMEZONE
BEGIN:VEVENT
UID:1464587:Event:463685
DTSTAMP:20260421T020818Z
SUMMARY:TOKiMONSTA w/ CRNKN, Doja Cat, DJ Dials
DESCRIPTION: Fri, Nov 21, 2014 \nGoldenvoice Presents\nTOKiMONSTA\nCRN
 KN, Doja Cat, DJ Dials\nThe Regency Ballroom 1300 Van Ness Avenue\nSan
  Francisco, CA 94109\nAges: 18 & Over\nDoors Open: 8:00PM\nPrice: $20.
 00\nDoor Price: $25.00\n>> BUY TICKETS\n\n\nFor more information visit
  https://trueskool.com/events/tokimonsta-w-crnkn-doja-cat-dj-dials
DTSTART;TZID=America/Los_Angeles:20141121T190000
DTEND;TZID=America/Los_Angeles:20141121T230000
CATEGORIES:"bay area", "san francisco"
LOCATION:The Regency Ballroom, San Francisco
WEBSITE:http://www.axs.com/events/253853/tokimonsta-tickets
URL:http://www.axs.com/events/253853/tokimonsta-tickets
CONTACT:
ORGANIZER:Goldenvoice
ATTACH;FMTTYPE="image/jpeg":http://storage.ning.com/topology/rest/1.0/
 file/get/2247971842?profile=original
ATTENDEE;ROLE=REQ-PARTICIPANT;PARTSTAT=ACCEPTED;RSVP=TRUE;CN="Editor's
  Pick":https://trueskool.com/profile/RentheVinylArchaeologist
END:VEVENT
END:VCALENDAR
