BEGIN:VCALENDAR
PRODID:NingEventWidget-v1
VERSION:2.0
METHOD:PUBLISH
BEGIN:VTIMEZONE
TZID:America/Los_Angeles
X-LIC-LOCATION:America/Los_Angeles
BEGIN:DAYLIGHT
TZOFFSETFROM:-0800
TZOFFSETTO:-0700
TZNAME:PDT
DTSTART:19700308T020000
RRULE:FREQ=YEARLY;BYMONTH=3;BYDAY=2SU
END:DAYLIGHT
BEGIN:STANDARD
TZOFFSETFROM:-0700
TZOFFSETTO:-0800
TZNAME:PST
DTSTART:19701101T020000
RRULE:FREQ=YEARLY;BYMONTH=11;BYDAY=1SU
END:STANDARD
END:VTIMEZONE
BEGIN:VEVENT
UID:1464587:Event:318201
DTSTAMP:20260421T112653Z
SUMMARY:Together On Stage...FREDDIE GIBBS (MC) x MADLIB (DJ) (NYC)
DESCRIPTION:\nTogether On Stage...FREDDIE GIBBS (MC) x MADLIB (DJ)\nDe
 tails: Freddie Gibbs, Madlib\n\n\nGramercy  York, NY\n\nSat, 03/2
 2/14 07:00 PM\n\nFind Tickets »on Live Nation\n\n\n\n\n\nFor more i
 nformation visit https://trueskool.com/events/together-on-stage-freddi
 e-gibbs-mc-x-madlib-dj-nyc
DTSTART;TZID=America/Los_Angeles:20140226T180000
DTEND;TZID=America/Los_Angeles:20140226T190000
CATEGORIES:united, states
LOCATION:Gramercy Theatre, NY
WEBSITE:http://concerts.livenation.com/event/00004C3EDA1BECFB?tm_link=
 browse_msg-0_00004C3EDA1BECFB&crosssite=TM_US:1433139:107
URL:http://concerts.livenation.com/event/00004C3EDA1BECFB?tm_link=brow
 se_msg-0_00004C3EDA1BECFB&crosssite=TM_US:1433139:107
CONTACT:
ORGANIZER;CN="Editor's Pick":https://trueskool.com/profile/RentheVinyl
 Archaeologist
ATTACH;FMTTYPE="image/jpeg":http://storage.ning.com/topology/rest/1.0/
 file/get/2247957214?profile=original
ATTENDEE;ROLE=REQ-PARTICIPANT;PARTSTAT=ACCEPTED;RSVP=TRUE;CN="Editor's
  Pick":https://trueskool.com/profile/RentheVinylArchaeologist
END:VEVENT
END:VCALENDAR
