BEGIN:VCALENDAR
PRODID:NingEventWidget-v1
VERSION:2.0
METHOD:PUBLISH
BEGIN:VTIMEZONE
TZID:America/Los_Angeles
X-LIC-LOCATION:America/Los_Angeles
BEGIN:DAYLIGHT
TZOFFSETFROM:-0800
TZOFFSETTO:-0700
TZNAME:PDT
DTSTART:19700308T020000
RRULE:FREQ=YEARLY;BYMONTH=3;BYDAY=2SU
END:DAYLIGHT
BEGIN:STANDARD
TZOFFSETFROM:-0700
TZOFFSETTO:-0800
TZNAME:PST
DTSTART:19701101T020000
RRULE:FREQ=YEARLY;BYMONTH=11;BYDAY=1SU
END:STANDARD
END:VTIMEZONE
BEGIN:VEVENT
UID:1464587:Event:286369
DTSTAMP:20260421T024005Z
SUMMARY:TOCR- Holiday Showcase - Pillow Talk + Tone of Arc (LIVE)
DESCRIPTION:Touch Of Class Records invites you to join us for a very s
 pecial “Holiday Showcase”, happening at the new and beautiful Audi
 o Discotech nightclub and restaurant. We have some exclusive live perf
 ormances from San Francisco’s shining stars, PillowTalk and Tone Of 
 Arc along with supporting DJ sets from the labels very own Signal Flow
  and Sharon Buck. There will be free giveaways, horderves, drink speci
 als and good vibes to help you get your night started off proper. Enjo
 y a “45’s by the fire” DJ Set from Sammy D of PillowTalk and Joe
 l Conway of Housepitality SF with their eclectic musical selection of 
 Soul, R&B, Funk and Rare Grooves in holiday style.\n\nUpstairs: “Dec
 k The Halls”\nExclusive LIVE performances by\n\nPILLOWTALK\n(Wolf + 
 Lamb, Touch Of Class Records)\n+\nTONE OF ARC\n(Touch Of Class Records
 , No.19)\n\nSIGNAL FLOW\n(Touch Of Class Records, Leftroom)\n\nSHARON 
 BUCK\n(Touch Of Class Records, Housepitality SF)\n\nDownstairs: “45
 s By The Fire”\nSoul, R&B, Funk and Rare Grooves\n\nSAMMY D\n(Pill
 owTalk, Wolf + Lamb)\n\nJOEL CONWAY\n(Housepitality SF)\n\n\nFor more 
 information visit https://trueskool.com/events/tocr-holiday-showcase-p
 illow-talk-tone-of-arc-live
DTSTART;TZID=America/Los_Angeles:20131228T220000
DTEND;TZID=America/Los_Angeles:20131229T020000
CATEGORIES:san, francisco, pillowtalk, tone, of, arc, touch, class, re
 cords, audiosf, house, live
LOCATION:Audio Discotech San Francisco
WEBSITE:http://audiosf.com/myportfolio/12-28-pillow-talk-tone-arc/
URL:http://audiosf.com/myportfolio/12-28-pillow-talk-tone-arc/
CONTACT:
ORGANIZER:Touch of Class Records
ATTACH;FMTTYPE="image/jpeg":http://storage.ning.com/topology/rest/1.0/
 file/get/2247955180?profile=original
ATTENDEE;ROLE=REQ-PARTICIPANT;PARTSTAT=ACCEPTED;RSVP=TRUE;CN="Sharon B
 uck":https://trueskool.com/profile/SharonBuck
END:VEVENT
END:VCALENDAR
