BEGIN:VCALENDAR
PRODID:NingEventWidget-v1
VERSION:2.0
METHOD:PUBLISH
BEGIN:VTIMEZONE
TZID:America/Los_Angeles
X-LIC-LOCATION:America/Los_Angeles
BEGIN:DAYLIGHT
TZOFFSETFROM:-0800
TZOFFSETTO:-0700
TZNAME:PDT
DTSTART:19700308T020000
RRULE:FREQ=YEARLY;BYMONTH=3;BYDAY=2SU
END:DAYLIGHT
BEGIN:STANDARD
TZOFFSETFROM:-0700
TZOFFSETTO:-0800
TZNAME:PST
DTSTART:19701101T020000
RRULE:FREQ=YEARLY;BYMONTH=11;BYDAY=1SU
END:STANDARD
END:VTIMEZONE
BEGIN:VEVENT
UID:1464587:Event:42413
DTSTAMP:20260420T145336Z
SUMMARY:TIPSY TUESDAY :Every 2nd and 4th TUESDAY, $1 BEER
DESCRIPTION:TIPSY TUESDAYS\nevery 2nd and 4th Tuesday @ the SHOWDOWN (
 10 6th St.)\n$2 cover $1 BEERS\n\nSo you might have a job, and you pro
 bobly have shit to do, but we're going to get you DRUNK @ TIPSY TUESDA
 YS, the new Tuesday night get down and the only spot you can cash in o
 n $1 beers and some of the best dj's in San Francisco spinning Hip Hop
 , Electro, Rap, Old School, Beer Beats, Funk and New School. Come out 
 and get down with us at the newly remodeld Showdown, the old Arrow Bar
 /Matador. The cave is gone, the sound has been upgraded and the place 
 has got a whole new look and feel. Tell all your friends and get out h
 ere!\n\nRotating DJ's:\nA-Ron (Good Company)\nJeanine Da Feen\nAspect 
 McCarthy (Jazz Mafia)\nLady Fingaz (Females Wit Funk)\nB Cause (4 One 
 Funk)\nPony P. (West Addy)\nBilly Jazz\nCrykit (Sisterz of the Undergr
 ound)\nRoost Uno (LowBrow Sundays)\n\nFor more information visit https
 ://trueskool.com/events/tipsy-tuesday-every-2nd-and
DTSTART;TZID=America/Los_Angeles:20091110T220000
DTEND;TZID=America/Los_Angeles:20100430T020000
CATEGORIES:hip, hop, house, electro, funk, breaks, beer, old, school, 
 new
LOCATION:Showdown, San Francisco, CA
WEBSITE:http://www.going.com/tipsytuesday
URL:http://www.going.com/tipsytuesday
CONTACT:
ORGANIZER;CN="Traci P":https://trueskool.com/profile/TraciP
ATTACH;FMTTYPE="image/jpeg":http://storage.ning.com/topology/rest/1.0/
 file/get/2247868810?profile=original
ATTENDEE;ROLE=REQ-PARTICIPANT;PARTSTAT=ACCEPTED;RSVP=TRUE;CN="Traci P"
 :https://trueskool.com/profile/TraciP
END:VEVENT
END:VCALENDAR
