BEGIN:VCALENDAR
PRODID:NingEventWidget-v1
VERSION:2.0
METHOD:PUBLISH
BEGIN:VTIMEZONE
TZID:America/Los_Angeles
X-LIC-LOCATION:America/Los_Angeles
BEGIN:DAYLIGHT
TZOFFSETFROM:-0800
TZOFFSETTO:-0700
TZNAME:PDT
DTSTART:19700308T020000
RRULE:FREQ=YEARLY;BYMONTH=3;BYDAY=2SU
END:DAYLIGHT
BEGIN:STANDARD
TZOFFSETFROM:-0700
TZOFFSETTO:-0800
TZNAME:PST
DTSTART:19701101T020000
RRULE:FREQ=YEARLY;BYMONTH=11;BYDAY=1SU
END:STANDARD
END:VTIMEZONE
BEGIN:VEVENT
UID:1464587:Event:632419
DTSTAMP:20260421T125652Z
SUMMARY:Time Is Irrelevant : Joanne Ludwig Art Opening
DESCRIPTION:Time Is Irrelevant > Art by Joanne Ludwig A #27daycountdow
 n to produce all new work #heal #grow #evolve   Opens > July 3rd First
  Friday 6-9:30pm > Oakland Art Murmur Music by Dj Kobie\n(Beer + Wine 
 Served, Children Welcome, No Cover)  Artist Talk > July 15th Wednesday
  7-9pm > Hosted by Anya De Marie M.A., educator, dancer & contributor 
 at Oakulture. Music by Dj Kobie   Closing Dance Party > July 25th Satu
 rday 8-pm-12am Music by Dj Kobie & Dedan Anderson  Big thank you to *A
 FRO DEEP > Djkobie -Ashanti Hi Fi > Dedan Anderson > CynDigs for the m
 usic and inspiration.   Exhibiting all thru July 2015 SoleSpace ShoeSt
 ore + ArtsLab 1714 Telegraph Ave. Oakland, California (510) 306-1585  
 Hours: Tue: 12:00 pm - 5:30 pm Wed - Sat: 12:00 pm - 7:00 pm\n\nhttp:/
 /joanneludwig.tumblr.com/\n\nFor more information visit https://truesk
 ool.com/events/time-is-irrelevant-joanne-ludwig-art-opening
DTSTART;TZID=America/Los_Angeles:20150703T180000
DTEND;TZID=America/Los_Angeles:20150703T213000
CATEGORIES:oakland, "bay area"
LOCATION:Oakland, CA
WEBSITE:https://www.facebook.com/events/1423328474658854/
URL:https://www.facebook.com/events/1423328474658854/
CONTACT:
ORGANIZER;CN="Joanne Ludwig":https://trueskool.com/profile/joanneLudwi
 g
ATTACH;FMTTYPE="image/jpeg":http://storage.ning.com/topology/rest/1.0/
 file/get/2247977328?profile=original
ATTENDEE;ROLE=REQ-PARTICIPANT;PARTSTAT=ACCEPTED;RSVP=TRUE;CN="Joanne L
 udwig":https://trueskool.com/profile/joanneLudwig
END:VEVENT
END:VCALENDAR
