BEGIN:VCALENDAR
PRODID:NingEventWidget-v1
VERSION:2.0
METHOD:PUBLISH
BEGIN:VTIMEZONE
TZID:America/Los_Angeles
X-LIC-LOCATION:America/Los_Angeles
BEGIN:DAYLIGHT
TZOFFSETFROM:-0800
TZOFFSETTO:-0700
TZNAME:PDT
DTSTART:19700308T020000
RRULE:FREQ=YEARLY;BYMONTH=3;BYDAY=2SU
END:DAYLIGHT
BEGIN:STANDARD
TZOFFSETFROM:-0700
TZOFFSETTO:-0800
TZNAME:PST
DTSTART:19701101T020000
RRULE:FREQ=YEARLY;BYMONTH=11;BYDAY=1SU
END:STANDARD
END:VTIMEZONE
BEGIN:VEVENT
UID:1464587:Event:283751
DTSTAMP:20260421T162627Z
SUMMARY:THUMP with resident DJ Kimani and special guest Ren the Vinyl 
 Archaeologist
DESCRIPTION:\nFriday, December 13  THUMP\n\nResident DJ Kimani with
  special guest DJ Ren.\n\n@ Somar Bar, 1727 Telegraph Ave, Oakland\n
 9:30 pm – 2am |  FREE BEFORE 11PM, $5 AFTER\n\n\nFor more informati
 on visit https://trueskool.com/events/thump
DTSTART;TZID=America/Los_Angeles:20131213T213000
DTEND;TZID=America/Los_Angeles:20131214T020000
CATEGORIES:"bay area", oakland
LOCATION:Somar Bar, Oakland
WEBSITE:http://www.somarbar.wordpress.com/‎
URL:http://www.somarbar.wordpress.com/‎
CONTACT:
ORGANIZER:Somar Bar
ATTACH;FMTTYPE="image/jpeg":http://storage.ning.com/topology/rest/1.0/
 file/get/2247954894?profile=original
ATTENDEE;ROLE=REQ-PARTICIPANT;PARTSTAT=ACCEPTED;RSVP=TRUE;CN="Staff Pi
 ck":https://trueskool.com/profile/Ren
END:VEVENT
END:VCALENDAR
