BEGIN:VCALENDAR
PRODID:NingEventWidget-v1
VERSION:2.0
METHOD:PUBLISH
BEGIN:VTIMEZONE
TZID:America/Los_Angeles
X-LIC-LOCATION:America/Los_Angeles
BEGIN:DAYLIGHT
TZOFFSETFROM:-0800
TZOFFSETTO:-0700
TZNAME:PDT
DTSTART:19700308T020000
RRULE:FREQ=YEARLY;BYMONTH=3;BYDAY=2SU
END:DAYLIGHT
BEGIN:STANDARD
TZOFFSETFROM:-0700
TZOFFSETTO:-0800
TZNAME:PST
DTSTART:19701101T020000
RRULE:FREQ=YEARLY;BYMONTH=11;BYDAY=1SU
END:STANDARD
END:VTIMEZONE
BEGIN:VEVENT
UID:1464587:Event:257809
DTSTAMP:20260421T084639Z
SUMMARY:Thu  Nov  28 CREAM OF BEAT REUNION PARTY 2013 PT. 2 FEAT. MAST
 A ACE & SPICE 1 LIVE
DESCRIPTION:\nCREAM OF BEAT REUNION PARTY 2013 PT. 2 FEAT. MASTA ACE &
  SPICE 1 LIVE\nMind Motion, Ivan, Rolo 1-3, Dark Money, Apollo, Fuze, 
 Big Von, Scotty Foxx\n\nMezzanine, SF San Francisco, CA\n>> BUY TICKET
 S\n\n\nFor more information visit https://trueskool.com/events/thu-nov
 -28-cream-of-beat-reunion-party-2013-pt-2-feat-masta-ace-s
DTSTART;TZID=America/Los_Angeles:20131128T210000
DTEND;TZID=America/Los_Angeles:20131129T020000
CATEGORIES:"bay area", "san francisco"
LOCATION:Mezzanine, SF
WEBSITE:http://www.ticketfly.com/event/401929
URL:http://www.ticketfly.com/event/401929
CONTACT:
ORGANIZER:Pirate DJs
ATTACH;FMTTYPE="image/jpeg":http://storage.ning.com/topology/rest/1.0/
 file/get/2247949799?profile=original
ATTENDEE;ROLE=REQ-PARTICIPANT;PARTSTAT=ACCEPTED;RSVP=TRUE;CN=Lena:http
 s://trueskool.com/profile/Lena
ATTENDEE;ROLE=REQ-PARTICIPANT;PARTSTAT=ACCEPTED;RSVP=TRUE;CN="Staff Pi
 ck":https://trueskool.com/profile/Ren
END:VEVENT
END:VCALENDAR
