BEGIN:VCALENDAR
PRODID:NingEventWidget-v1
VERSION:2.0
METHOD:PUBLISH
BEGIN:VTIMEZONE
TZID:America/Los_Angeles
X-LIC-LOCATION:America/Los_Angeles
BEGIN:DAYLIGHT
TZOFFSETFROM:-0800
TZOFFSETTO:-0700
TZNAME:PDT
DTSTART:19700308T020000
RRULE:FREQ=YEARLY;BYMONTH=3;BYDAY=2SU
END:DAYLIGHT
BEGIN:STANDARD
TZOFFSETFROM:-0700
TZOFFSETTO:-0800
TZNAME:PST
DTSTART:19701101T020000
RRULE:FREQ=YEARLY;BYMONTH=11;BYDAY=1SU
END:STANDARD
END:VTIMEZONE
BEGIN:VEVENT
UID:1464587:Event:237296
DTSTAMP:20260421T082819Z
SUMMARY:THROWBACK (90s House Night) w/ Fred Everything, David Harness,
  Jayvi Velasco...
DESCRIPTION: FRIDAY AUGUST 30\nTHROWBACK (90s House Night) Mighty is p
 roud to bring back our \"Throwback\" party, a tribute to 90's house mu
 sic all night long. For this edition we have assembled one STACKED lin
 eup of veteran DJs who will be bringing their extensive collections of
  vinyl and digital 90's house jams that gave birth to house music as w
 e know it today.  On the wheels of steel- Fred Everything (Lazy Days R
 ecordings) David Harness (Mighty Real, Harlum Muziq) Tyrel Williams (H
 ousepatality, Acid Test) Jayvi Velasco (AfterAfterHours) Still Rob G (
 Smoke n' Mirrors)\n\n@ Mighty 119 Utah St, SF\n9pm-3am | 21+\nFREE BEF
 ORE 11:30pm, $5 after\nhttps://www.facebook.com/events/343833995749218
 \n\nFor more information visit https://trueskool.com/events/throwback
DTSTART;TZID=America/Los_Angeles:20130830T210000
DTEND;TZID=America/Los_Angeles:20130831T030000
CATEGORIES:"bay area", "san francisco"
LOCATION:Mighty, San Francisco
WEBSITE:https://www.facebook.com/events/343833995749218/
URL:https://www.facebook.com/events/343833995749218/
CONTACT:
ORGANIZER:Mighty
ATTACH;FMTTYPE="image/jpeg":http://storage.ning.com/topology/rest/1.0/
 file/get/2247946572?profile=original
ATTENDEE;ROLE=REQ-PARTICIPANT;PARTSTAT=ACCEPTED;RSVP=TRUE;CN="Staff Pi
 ck":https://trueskool.com/profile/Ren
END:VEVENT
END:VCALENDAR
