BEGIN:VCALENDAR
PRODID:NingEventWidget-v1
VERSION:2.0
METHOD:PUBLISH
BEGIN:VTIMEZONE
TZID:America/Los_Angeles
X-LIC-LOCATION:America/Los_Angeles
BEGIN:DAYLIGHT
TZOFFSETFROM:-0800
TZOFFSETTO:-0700
TZNAME:PDT
DTSTART:19700308T020000
RRULE:FREQ=YEARLY;BYMONTH=3;BYDAY=2SU
END:DAYLIGHT
BEGIN:STANDARD
TZOFFSETFROM:-0700
TZOFFSETTO:-0800
TZNAME:PST
DTSTART:19701101T020000
RRULE:FREQ=YEARLY;BYMONTH=11;BYDAY=1SU
END:STANDARD
END:VTIMEZONE
BEGIN:VEVENT
UID:1464587:Event:364060
DTSTAMP:20260421T052733Z
SUMMARY:Throwback - Vinyl Night - Tribute to 90's House Music - FREE B
 4 11pm
DESCRIPTION: SATURDAY, MAY 31\nTHROWBACK\nMighty is proud to bring bac
 k an ALL VINYL edition of THROWBACK, a tribute to 90's house music wit
 h an incredible lineup of DJs spinning 90's house classics, rare gems,
  and underground white labels all night long!\nOPEN BAR 9pm-10pm!\nLin
 eup for this round >>> Tyrel Williams (Housepitality, SF)\nAndrew Phel
 an (Prismatic, SF)\nJayvi Velasco (AfterAfter Hours)\nRenoir (True Sko
 ol)\n@ Mighty, 119 Utah St., SF 21+ w/ ID | 9pm-3am\nFREE BEFORE 11pm 
 with RSVP here:\nhttp://throwbackatmighty.eventbrite.com/\n\nFor more 
 information visit https://trueskool.com/events/throwback-vinyl-night-t
 ribute-to-90-s-house-music-free-b4-11pm
DTSTART;TZID=America/Los_Angeles:20140531T210000
DTEND;TZID=America/Los_Angeles:20140601T030000
CATEGORIES:"bay area", "san francisco"
LOCATION:Mighty, San Francisco
WEBSITE:http://throwbackatmighty.eventbrite.com
URL:http://throwbackatmighty.eventbrite.com
CONTACT:
ORGANIZER:Mighty
ATTACH;FMTTYPE="image/jpeg":http://storage.ning.com/topology/rest/1.0/
 file/get/2247961954?profile=original
ATTENDEE;ROLE=REQ-PARTICIPANT;PARTSTAT=ACCEPTED;RSVP=TRUE;CN="Staff Pi
 ck":https://trueskool.com/profile/Ren
END:VEVENT
END:VCALENDAR
