BEGIN:VCALENDAR
PRODID:NingEventWidget-v1
VERSION:2.0
METHOD:PUBLISH
BEGIN:VTIMEZONE
TZID:America/Los_Angeles
X-LIC-LOCATION:America/Los_Angeles
BEGIN:DAYLIGHT
TZOFFSETFROM:-0800
TZOFFSETTO:-0700
TZNAME:PDT
DTSTART:19700308T020000
RRULE:FREQ=YEARLY;BYMONTH=3;BYDAY=2SU
END:DAYLIGHT
BEGIN:STANDARD
TZOFFSETFROM:-0700
TZOFFSETTO:-0800
TZNAME:PST
DTSTART:19701101T020000
RRULE:FREQ=YEARLY;BYMONTH=11;BYDAY=1SU
END:STANDARD
END:VTIMEZONE
BEGIN:VEVENT
UID:1464587:Event:831332
DTSTAMP:20260421T093901Z
SUMMARY:THROWBACK (All Throwbacks: Soul, Funk, Hip Hop, Reggae & more)
  featuring Ren the Vinyl Archaeologist and special guest DJ Audio1
DESCRIPTION: WEDNESDAY AUG 28 THROWBACK (2nd & 4th Wednesdays)  All T
 hrowbacks: Hip Hop, Soul/Funk, Reggae +more!\r\n\r\nFeaturing Ren the 
 Vinyl Archaeologist (True Skool)\r\nand special guest Audio1 (Boom Bap
  Mondays)\r\n\r\nUpcoming guests Malachi, Jah Yzer + more!\r\n\r\nat H
 ello Stranger Bar, 1724 Broadway, Oakland. Doors 8pm. DJ Set starts at
  9pm. No cover!\r\n+ ADD TO CALENDAR  Join twitch and watch live strea
 m at twitch.tv/trueskool\r\n\r\n\r\nREN THE VINYL ARCHAEOLOGIST\r\nAs 
 a Bay Area resident hailing from New York, Ren the Vinyl Archaeologist
  (aka Renoir) made his mark as the founder of True Skool (est. '99). O
 riginally a party that featured Hip Hop legends, emerging artists, and
  world-class turntablists, the brand has evolved into a music entertai
 nment guide and event marketing company. As a DJ, Ren is known for his
  eclectic and diverse musical selections. He has shared billing with w
 orld-renowned artists, such as Z-Trip, Jazzy Jeff, Q-Bert, Mixmaster M
 ike, Wu-Tang Clan, Black Thought, Rakim, Masters at Work, Nightmares o
 n Wax, Moby, KRS-One, to name a few. Overall, Ren the Vinyl Archaeolog
 ist is a highly respected and influential figure in the hip-hop and mu
 sic community, known for his passion, creativity, and commitment to pr
 eserving the legacy of hip hop.\r\nhttp://djrenoir.com\n\nFor more inf
 ormation visit https://trueskool.com/events/throwback-all-throwbacks-s
 oul-funk-hip-hop-reggae
DTSTART;TZID=America/Los_Angeles:20240828T210000
DTEND;TZID=America/Los_Angeles:20240829T014500
CATEGORIES:oakland, "bay area"
LOCATION:Hello Stranger Bar, Oakland
WEBSITE:https://calendar.google.com/calendar/event?action=TEMPLATE&amp
 ;amp;amp;tmeid=aDN1MWEzbzF2bXZkNzZwNjkzdThhYWw2cGNfMjAyNDA4MjlUMDQwMDA
 wWiBsZTNwaGdwdTlwNzY2bjYwMzFvMGRwMzBlOEBn&amp;amp;amp;tmsrc=le3phgpu9p
 766n6031o0dp30e8%40group.calendar.google.com&amp;amp;amp;scp=ALL
URL:https://calendar.google.com/calendar/event?action=TEMPLATE&amp;amp
 ;amp;tmeid=aDN1MWEzbzF2bXZkNzZwNjkzdThhYWw2cGNfMjAyNDA4MjlUMDQwMDAwWiB
 sZTNwaGdwdTlwNzY2bjYwMzFvMGRwMzBlOEBn&amp;amp;amp;tmsrc=le3phgpu9p766n
 6031o0dp30e8%40group.calendar.google.com&amp;amp;amp;scp=ALL
CONTACT:
ORGANIZER:True Skool
ATTACH;FMTTYPE="image/jpeg":https://storage.ning.com/topology/rest/1.0
 /file/get/12764256301?profile=original
ATTENDEE;ROLE=REQ-PARTICIPANT;PARTSTAT=ACCEPTED;RSVP=TRUE;CN="Editor's
  Pick":https://trueskool.com/profile/RentheVinylArchaeologist
END:VEVENT
END:VCALENDAR
