BEGIN:VCALENDAR
PRODID:NingEventWidget-v1
VERSION:2.0
METHOD:PUBLISH
BEGIN:VTIMEZONE
TZID:America/Los_Angeles
X-LIC-LOCATION:America/Los_Angeles
BEGIN:DAYLIGHT
TZOFFSETFROM:-0800
TZOFFSETTO:-0700
TZNAME:PDT
DTSTART:19700308T020000
RRULE:FREQ=YEARLY;BYMONTH=3;BYDAY=2SU
END:DAYLIGHT
BEGIN:STANDARD
TZOFFSETFROM:-0700
TZOFFSETTO:-0800
TZNAME:PST
DTSTART:19701101T020000
RRULE:FREQ=YEARLY;BYMONTH=11;BYDAY=1SU
END:STANDARD
END:VTIMEZONE
BEGIN:VEVENT
UID:1464587:Event:280412
DTSTAMP:20260421T073217Z
SUMMARY:Throwback 90's House Nite - Mighty 10 Year Anniversary - FREE 
 B4 12am w/ RSVP
DESCRIPTION: FRIDAY, DEC 6\nThrowback 90's House Nite - Mighty 10 Year
  Anniversary\nMighty is proud to bring back as part of its 10 year ann
 iversary celebration, THROWBACK - a tribute to 90's house music, with 
 one incredible lineup of DJs. The evening begins at 9pm with an open b
 ar from 9pm-10:30pm, as well as free BBQ outside! The event is free be
 fore 12am with RSVP! Djs will be spinning 90's house classics, rare ge
 ms, and underground white labels all night long!\nDJ lineup-\n9pm-10pm
  - Ren the Vinyl Archeologist (True Skool)\n10pm-11pm - DJ Gunz (Bassy
 x)\n11pm-12am - Lance \"LandShark\" DeSardi (Bang the Box, SF)\n12am-1
 am - Jayvi Velasco (AfterAfterHours)\n1am-2:30am - Tyrel Williams & Mi
 guel Solari (Housepatality, SF)\n2:30am-3:30am - DJ Rooz (Deep Blue, S
 F)\n@ Mighty 119 Utah St., SF 9PM-3:30PM | 21+\nFREE B4 12am w/ RSVP o
 n Eventbrite here-\nhttp://throwback10year.eventbrite.com/\n\nFor more
  information visit https://trueskool.com/events/throwback-90-s-house-n
 ite-mighty-10-year-anniversary-free-b4-12am
DTSTART;TZID=America/Los_Angeles:20131206T210000
DTEND;TZID=America/Los_Angeles:20131207T030000
CATEGORIES:"bay area", "san francisco"
LOCATION:Mighty, San Francisco
WEBSITE:http://throwback10year.eventbrite.com/
URL:http://throwback10year.eventbrite.com/
CONTACT:
ORGANIZER:Mighty
ATTACH;FMTTYPE="image/jpeg":http://storage.ning.com/topology/rest/1.0/
 file/get/2247953094?profile=original
ATTENDEE;ROLE=REQ-PARTICIPANT;PARTSTAT=ACCEPTED;RSVP=TRUE;CN="Staff Pi
 ck":https://trueskool.com/profile/Ren
END:VEVENT
END:VCALENDAR
