BEGIN:VCALENDAR
PRODID:NingEventWidget-v1
VERSION:2.0
METHOD:PUBLISH
BEGIN:VTIMEZONE
TZID:America/Los_Angeles
X-LIC-LOCATION:America/Los_Angeles
BEGIN:DAYLIGHT
TZOFFSETFROM:-0800
TZOFFSETTO:-0700
TZNAME:PDT
DTSTART:19700308T020000
RRULE:FREQ=YEARLY;BYMONTH=3;BYDAY=2SU
END:DAYLIGHT
BEGIN:STANDARD
TZOFFSETFROM:-0700
TZOFFSETTO:-0800
TZNAME:PST
DTSTART:19701101T020000
RRULE:FREQ=YEARLY;BYMONTH=11;BYDAY=1SU
END:STANDARD
END:VTIMEZONE
BEGIN:VEVENT
UID:1464587:Event:460599
DTSTAMP:20260421T021206Z
SUMMARY:This Thursday: Dub,Dancehall, Cumbia, Bhangra & more at the Tu
 nnel Top
DESCRIPTION:This Thursday, November 6th: DJ SEP mixes dub, dancehall, 
 reggae, cumbia, bhangra & more all night, from 10 pm to close at the T
 unnel Top: 601 Bush Street - San Francisco21 & over - $1 https://www.f
 acebook.com/DJSep1\n\nFor more information visit https://trueskool.com
 /events/this-thursday-dub-dancehall-cumbia-bhangra-more-at-the-tunnel-
 top
DTSTART;TZID=America/Los_Angeles:20141106T180000
DTEND;TZID=America/Los_Angeles:20141107T190000
CATEGORIES:this, thursday, dub, dancehall, cumbia, bhangra, tunnel, to
 p, bay, area, dance, party, san, franscico, almost, free, cheap
LOCATION:Tunnel Top
WEBSITE:https://www.google.com/maps/place/601+Bush+St,+San+Francisco,+
 CA+94108/@37.7901902,-122.4073978,17z/data=!3m1!4b1!4m2!3m1!1s0x808580
 8c0104187d:0x3ad34b024bd38ed
URL:https://www.google.com/maps/place/601+Bush+St,+San+Francisco,+CA+9
 4108/@37.7901902,-122.4073978,17z/data=!3m1!4b1!4m2!3m1!1s0x8085808c01
 04187d:0x3ad34b024bd38ed
CONTACT:
ORGANIZER;CN="DJ SEP":https://trueskool.com/profile/DJSEP
ATTACH;FMTTYPE="image/jpeg":http://storage.ning.com/topology/rest/1.0/
 file/get/2247969094?profile=original
ATTENDEE;ROLE=REQ-PARTICIPANT;PARTSTAT=ACCEPTED;RSVP=TRUE;CN="DJ SEP":
 https://trueskool.com/profile/DJSEP
END:VEVENT
END:VCALENDAR
