BEGIN:VCALENDAR
PRODID:NingEventWidget-v1
VERSION:2.0
METHOD:PUBLISH
BEGIN:VTIMEZONE
TZID:America/Los_Angeles
X-LIC-LOCATION:America/Los_Angeles
BEGIN:DAYLIGHT
TZOFFSETFROM:-0800
TZOFFSETTO:-0700
TZNAME:PDT
DTSTART:19700308T020000
RRULE:FREQ=YEARLY;BYMONTH=3;BYDAY=2SU
END:DAYLIGHT
BEGIN:STANDARD
TZOFFSETFROM:-0700
TZOFFSETTO:-0800
TZNAME:PST
DTSTART:19701101T020000
RRULE:FREQ=YEARLY;BYMONTH=11;BYDAY=1SU
END:STANDARD
END:VTIMEZONE
BEGIN:VEVENT
UID:1464587:Event:70644
DTSTAMP:20260420T175224Z
SUMMARY:This Sun: Dub Mission presents STRONGHOLD SOUND (Live) feat. D
 UB SNAKKR, BONGO & IGGY MON plus DJ SEP and LUDICHRIS
DESCRIPTION:THIS SUNDAY:\nDub Mission presents the best in dub, dubste
 p, roots & dancehall with\nDJ SEP, LUDICHRIS with special guests STRON
 GHOLD SOUND (Live) feat. DUB SNAKKR, BONGO & IGGY MON\nperforming trac
 ks off the upcoming compilation Audio Refuge\nat Elbo Room - 647 Valen
 cia Street – San Francisco, CA 94110 - Club is 21+ - Club info: 415 
 552 7788\n9 pm to 2 am - $6 - http://www.dubmissionsf.com/stronghold%2
 0sound2010.html\n\n\nThis Sunday, S.F.'s own Stronghold Sound will be 
 in the house with dub Snakkr (Duniya Dancehall, Layover) spinning new 
 roots, dubstep, dancehall and Gnawa-dub from their upcoming release, A
 udio Refuge, featuring Bongo (Wontanara, Duniya) and Iggy Mon (Afrolic
 ious). Dub Snakkr, is one of the founders of Stronghold Sound, a Bay A
 rea-based production studio focusing on roots and contemporary sound c
 oming from West & North Africa, the Middle-East, India, Latin America 
 and the Carribean. (www.strongholdsound.com)\n\nFresh to the Bay Area 
 scene from Guinea Conakry, Alpha Oumar \"Bongo\" Sidibe has been playi
 ng and teaching roots Manding rhythms through classes, events and his 
 band, Wontanara. Singing in three different languages and building on 
 the link between reggae and roots-Manding, Bongo is not a performer to
  miss. http://www.duniyadance.com or http://strongholdsound.com/wordpr
 ess/2010/02/04/alpha-oumar-bongo-sidibe\n\nHailing from the island of 
 Trinidad, Iggy Mon has been sprinkling rhymes on dancefloors steady si
 nce he started doing it regular at Thursday night's Afrolicious. Check
  out tracks and more: http://www.myspace.com/iggymon\n\nFor more infor
 mation visit https://trueskool.com/events/this-sun-dub-mission-present
 s-1
DTSTART;TZID=America/Los_Angeles:20101121T210000
DTEND;TZID=America/Los_Angeles:20101122T020000
CATEGORIES:dub, dubstep, bay, san, francisco, roots, reggae, dancehall
 , live, music, djs, soundsystem, dancing, nightlife
LOCATION:Elbo Room
WEBSITE:http://www.elbo.com
URL:http://www.elbo.com
CONTACT:415-552-7788
ORGANIZER;CN="DJ SEP":https://trueskool.com/profile/DJSEP
ATTACH;FMTTYPE="image/jpeg":http://storage.ning.com/topology/rest/1.0/
 file/get/2247885938?profile=original
ATTENDEE;ROLE=REQ-PARTICIPANT;PARTSTAT=ACCEPTED;RSVP=TRUE;CN="DJ SEP":
 https://trueskool.com/profile/DJSEP
END:VEVENT
END:VCALENDAR
