BEGIN:VCALENDAR
PRODID:NingEventWidget-v1
VERSION:2.0
METHOD:PUBLISH
BEGIN:VTIMEZONE
TZID:America/Los_Angeles
X-LIC-LOCATION:America/Los_Angeles
BEGIN:DAYLIGHT
TZOFFSETFROM:-0800
TZOFFSETTO:-0700
TZNAME:PDT
DTSTART:19700308T020000
RRULE:FREQ=YEARLY;BYMONTH=3;BYDAY=2SU
END:DAYLIGHT
BEGIN:STANDARD
TZOFFSETFROM:-0700
TZOFFSETTO:-0800
TZNAME:PST
DTSTART:19701101T020000
RRULE:FREQ=YEARLY;BYMONTH=11;BYDAY=1SU
END:STANDARD
END:VTIMEZONE
BEGIN:VEVENT
UID:1464587:Event:68922
DTSTAMP:20260420T180835Z
SUMMARY:This Sun: DUB MISSION Halloween presents THE SPIT BROTHERS liv
 e! plus DJ SEP & MANEESH the
DESCRIPTION:THIS SUNDAY:\nDUB MISSION Halloween presents\nTHE SPIT BRO
 THERS live! (Dubs Alive Records)\nFeaturing Bakir and Dubsworth\nplus 
 DJ SEP and MANEESH the TWISTER (Surya Dub)\nat Elbo Room - 647 Valenci
 a Street - SF - Club is 21+ - Club info: 415 552 7788\n9 pm to 2 am - 
 $7 - www.dubmissionsf.com\n\nBakir and Dubsworth came together in 2006
  with their common backgrounds in instrumental performance and music p
 roduction to form the San Francisco based sound system band, The Spit 
 Brothers. The group incorporates elements of dub, bass music, afro-bea
 t, jazz, and electronica into their repertoire. Their live set is a co
 mbination of improvised and sequenced moments created through loop man
 ipulation and re-arrangement, and dub fading. Both producers perform o
 n several instruments including trumpet, bass, guitar, organ, synthesi
 zer, and melodica. They have performed alongside Jazzsteppa, KJ Sawka,
  and Kush Arora and have supported acts like Caspa and Rusko, Eskmo, J
 oe Nice, RSD, Matty G, DZ, DJG, and DJunya. They have releases out on 
 Full Melt Records, Record Label Records, and their own label, Dubs Ali
 ve. http://www.myspace.com/thespitbrothers\n\nFor more information vis
 it https://trueskool.com/events/this-sun-dub-mission-halloween
DTSTART;TZID=America/Los_Angeles:20101031T210000
DTEND;TZID=America/Los_Angeles:20101101T020000
CATEGORIES:bay, area, san, francisco, ca
LOCATION:Elbo Room, San Francisco, CA
WEBSITE:http://www.elbo.com
URL:http://www.elbo.com
CONTACT:415-552-7788
ORGANIZER;CN="DJ SEP":https://trueskool.com/profile/DJSEP
ATTACH;FMTTYPE="image/jpeg":http://storage.ning.com/topology/rest/1.0/
 file/get/2247885716?profile=original
ATTENDEE;ROLE=REQ-PARTICIPANT;PARTSTAT=ACCEPTED;RSVP=TRUE;CN="DJ SEP":
 https://trueskool.com/profile/DJSEP
END:VEVENT
END:VCALENDAR
