BEGIN:VCALENDAR
PRODID:NingEventWidget-v1
VERSION:2.0
METHOD:PUBLISH
BEGIN:VTIMEZONE
TZID:America/Los_Angeles
X-LIC-LOCATION:America/Los_Angeles
BEGIN:DAYLIGHT
TZOFFSETFROM:-0800
TZOFFSETTO:-0700
TZNAME:PDT
DTSTART:19700308T020000
RRULE:FREQ=YEARLY;BYMONTH=3;BYDAY=2SU
END:DAYLIGHT
BEGIN:STANDARD
TZOFFSETFROM:-0700
TZOFFSETTO:-0800
TZNAME:PST
DTSTART:19701101T020000
RRULE:FREQ=YEARLY;BYMONTH=11;BYDAY=1SU
END:STANDARD
END:VTIMEZONE
BEGIN:VEVENT
UID:1464587:Event:297530
DTSTAMP:20260421T003517Z
SUMMARY:...this one is for DILLA - 2/7 - DILLA DAY | SF
DESCRIPTION:Stop by Mighty, Friday 2/7, for a celebration of all thing
 s J Dilla. Music provided by Detroit hip hop ambassador, DJ House Shoe
 s, a long with Shortkut, Mr. E & Haylow. Hosted by Fran Boogie.\n\nFor
  more information visit https://trueskool.com/events/this-one-is-for-d
 illa-2-7-dilla-day-sf
DTSTART;TZID=America/Los_Angeles:20140207T210000
DTEND;TZID=America/Los_Angeles:20140208T030000
CATEGORIES:san, francisco, bay, area, california
LOCATION:MIghty, San Francisco
WEBSITE:http://www.eventbrite.com/e/this-one-is-for-dilla-27-dilla-day
 -sf-tickets-10074650551
URL:http://www.eventbrite.com/e/this-one-is-for-dilla-27-dilla-day-sf-
 tickets-10074650551
CONTACT:
ORGANIZER:Mighty SF
ATTACH;FMTTYPE="image/jpeg":
ATTENDEE;ROLE=REQ-PARTICIPANT;PARTSTAT=ACCEPTED;RSVP=TRUE;CN="m.deep.m
 usic":https://trueskool.com/profile/mdeepmusic
ATTENDEE;ROLE=REQ-PARTICIPANT;PARTSTAT=ACCEPTED;RSVP=TRUE;CN="Cesar De
  La Vega":https://trueskool.com/profile/CesarDeLaVega
ATTENDEE;ROLE=REQ-PARTICIPANT;PARTSTAT=ACCEPTED;RSVP=TRUE;CN="Alexandr
 a Alden":https://trueskool.com/profile/AlexandraAlden
END:VEVENT
END:VCALENDAR
