BEGIN:VCALENDAR
PRODID:NingEventWidget-v1
VERSION:2.0
METHOD:PUBLISH
BEGIN:VTIMEZONE
TZID:America/Los_Angeles
X-LIC-LOCATION:America/Los_Angeles
BEGIN:DAYLIGHT
TZOFFSETFROM:-0800
TZOFFSETTO:-0700
TZNAME:PDT
DTSTART:19700308T020000
RRULE:FREQ=YEARLY;BYMONTH=3;BYDAY=2SU
END:DAYLIGHT
BEGIN:STANDARD
TZOFFSETFROM:-0700
TZOFFSETTO:-0800
TZNAME:PST
DTSTART:19701101T020000
RRULE:FREQ=YEARLY;BYMONTH=11;BYDAY=1SU
END:STANDARD
END:VTIMEZONE
BEGIN:VEVENT
UID:1464587:Event:680125
DTSTAMP:20260421T020331Z
SUMMARY:Thievery Corporation
DESCRIPTION:Thievery Corporation - Treasures From The Temple Tour 2018
  Please note Doors open at 7:30pm\r\nSun • Dec 30 • 8:30 PM The Ma
 sonic San Francisco, CA\n\nFor more information visit https://trueskoo
 l.com/events/thievery-corporation-2
DTSTART;TZID=America/Los_Angeles:20181230T203000
DTEND;TZID=America/Los_Angeles:20181230T230000
CATEGORIES:"bay area", oakland, "san francisco", "san jose", berkeley
LOCATION:The Masonic, SF
WEBSITE:https://concerts1.livenation.com/event/1C0054F2D5BC85CC?f_PPL=
 true&amp;ab=efeat5787v1
URL:https://concerts1.livenation.com/event/1C0054F2D5BC85CC?f_PPL=true
 &amp;ab=efeat5787v1
CONTACT:
ORGANIZER;CN="Editor's Pick":https://trueskool.com/profile/RentheVinyl
 Archaeologist
ATTACH;FMTTYPE="image/jpeg":http://storage.ning.com/topology/rest/1.0/
 file/get/2248011565?profile=original
ATTENDEE;ROLE=REQ-PARTICIPANT;PARTSTAT=ACCEPTED;RSVP=TRUE;CN="Editor's
  Pick":https://trueskool.com/profile/RentheVinylArchaeologist
END:VEVENT
END:VCALENDAR
