BEGIN:VCALENDAR
PRODID:NingEventWidget-v1
VERSION:2.0
METHOD:PUBLISH
BEGIN:VTIMEZONE
TZID:America/Los_Angeles
X-LIC-LOCATION:America/Los_Angeles
BEGIN:DAYLIGHT
TZOFFSETFROM:-0800
TZOFFSETTO:-0700
TZNAME:PDT
DTSTART:19700308T020000
RRULE:FREQ=YEARLY;BYMONTH=3;BYDAY=2SU
END:DAYLIGHT
BEGIN:STANDARD
TZOFFSETFROM:-0700
TZOFFSETTO:-0800
TZNAME:PST
DTSTART:19701101T020000
RRULE:FREQ=YEARLY;BYMONTH=11;BYDAY=1SU
END:STANDARD
END:VTIMEZONE
BEGIN:VEVENT
UID:1464587:Event:267779
DTSTAMP:20260420T210416Z
SUMMARY:Thievery Corporation
DESCRIPTION:Thievery Corporation\n \nwith guests:\nA-Trak :: Dillon F
 rancisEmacipator :: Rob Garza (DJ Set)Motion Potion :: DelachauxDirtyb
 ird feat. J.Phlip, Worthy &,Christian Martin :: Silent FriscoClub Exot
 ica :: Anon Salon\n\nVenue:Bill Graham Civic AuditoriumLocation:San Fr
 ancisco, CAShow Date:Tuesday, December 31Show Time:9:00PMOn Sale Date:
 Thursday, November 7Ticket Price:$150.00 - VIP - Limited Availability*
 *$155.00 - VIP** $160.00 - VIP**$165.00 - VIP** $170.00 - VIP**$75.0
 0 - General Admission - Limited Availability**$80.00 - General Admissi
 on**$85.00 - General Admission**$90.00 - General Admission**$95.00 - G
 eneral Admission**\n*plus applicable service fees**available when lowe
 r price level is sold out\nTickets are also available service charge f
 ree at The Fox Theater's Box Office (located on the 19th street side o
 f the theater) on show dates and on Fridays from noon - 7:00pm.\nPresa
 le begins Thursday, November 7th at 10am!(password = dreams)\nPlease n
 ote that presale tickets are only available online. The general on sal
 e begins Friday, November 8th at 10am.\n\nFor more information visit h
 ttps://trueskool.com/events/thievery-corporation-1
DTSTART;TZID=America/Los_Angeles:20131231T210000
DTEND;TZID=America/Los_Angeles:20140101T020000
CATEGORIES:"san francisco"
LOCATION:Bill Graham Civic Auditorium, San Francisco
WEBSITE:http://www.apeconcerts.com/venue_bgc.cfm
URL:http://www.apeconcerts.com/venue_bgc.cfm
CONTACT:
ORGANIZER;CN="Editor's Pick":https://trueskool.com/profile/RentheVinyl
 Archaeologist
ATTACH;FMTTYPE="image/jpeg":http://storage.ning.com/topology/rest/1.0/
 file/get/2247952786?profile=original
ATTENDEE;ROLE=REQ-PARTICIPANT;PARTSTAT=ACCEPTED;RSVP=TRUE;CN="Editor's
  Pick":https://trueskool.com/profile/RentheVinylArchaeologist
END:VEVENT
END:VCALENDAR
