BEGIN:VCALENDAR
PRODID:NingEventWidget-v1
VERSION:2.0
METHOD:PUBLISH
BEGIN:VTIMEZONE
TZID:America/Los_Angeles
X-LIC-LOCATION:America/Los_Angeles
BEGIN:DAYLIGHT
TZOFFSETFROM:-0800
TZOFFSETTO:-0700
TZNAME:PDT
DTSTART:19700308T020000
RRULE:FREQ=YEARLY;BYMONTH=3;BYDAY=2SU
END:DAYLIGHT
BEGIN:STANDARD
TZOFFSETFROM:-0700
TZOFFSETTO:-0800
TZNAME:PST
DTSTART:19701101T020000
RRULE:FREQ=YEARLY;BYMONTH=11;BYDAY=1SU
END:STANDARD
END:VTIMEZONE
BEGIN:VEVENT
UID:1464587:Event:40963
DTSTAMP:20260422T152833Z
SUMMARY:Thembi Anne's Music Lounge
DESCRIPTION:\nThembi Anne's Music Lounge\nDinner / Jazz / Open Mic\n\n
 Featuring live performances by:\nThembi Anne & Teri Simmons\nKat 010 (
 Crown City Rockers)\nDana Salzman\nPaul Smith\nMalaika\n\nDJs:\nJustin
  Time (Mixerfriendly)\nRen the Vinyl Archaeologist (True Skool)\n\nHos
 ted by: Anthem Salgado\n\n* Celebrating Thembi Anne's B-day.\n* Open M
 ic w/ Live Piano. Please bring Sheet Music. Sign up by 7pm.\n\n@ Polen
 g Lounge, 1751 Fulton St. @ Masonic, San Francisco\nNo cover. Starts a
 t 6pm. All ages til 10pm.\nInfo: http://www.trueskool.com\n\n\n\n\n\n\
 n\n\n\nFor more information visit https://trueskool.com/events/thembi-
 annes-music-lounge
DTSTART;TZID=America/Los_Angeles:20091004T180000
DTEND;TZID=America/Los_Angeles:20091004T220000
CATEGORIES:jazz, hip, hop, soul, open, mic, spoken, word
LOCATION:Poleng Lounge, San Francisco, CA
WEBSITE:http://maps.google.com/maps?f=q&source=s_q&hl=en&geocode=&q=17
 51+fulton+st.,+san+francisco,+ca&sll=37.0625,-95.677068&sspn=33.077336
 ,79.013672&ie=UTF8&ll=37.77677,-122.445545&spn=0.008056,0.01929&z=16&i
 wloc=A
URL:http://maps.google.com/maps?f=q&source=s_q&hl=en&geocode=&q=1751+f
 ulton+st.,+san+francisco,+ca&sll=37.0625,-95.677068&sspn=33.077336,79.
 013672&ie=UTF8&ll=37.77677,-122.445545&spn=0.008056,0.01929&z=16&iwloc
 =A
CONTACT:
ORGANIZER:True Skool
ATTACH;FMTTYPE="image/jpeg":http://storage.ning.com/topology/rest/1.0/
 file/get/2247867167?profile=original
ATTENDEE;ROLE=REQ-PARTICIPANT;PARTSTAT=ACCEPTED;RSVP=TRUE;CN="Ren the 
 Vinyl Archaeologist":https://trueskool.com/profile/xh51jvilojur
END:VEVENT
END:VCALENDAR
