BEGIN:VCALENDAR
PRODID:NingEventWidget-v1
VERSION:2.0
METHOD:PUBLISH
BEGIN:VTIMEZONE
TZID:America/Los_Angeles
X-LIC-LOCATION:America/Los_Angeles
BEGIN:DAYLIGHT
TZOFFSETFROM:-0800
TZOFFSETTO:-0700
TZNAME:PDT
DTSTART:19700308T020000
RRULE:FREQ=YEARLY;BYMONTH=3;BYDAY=2SU
END:DAYLIGHT
BEGIN:STANDARD
TZOFFSETFROM:-0700
TZOFFSETTO:-0800
TZNAME:PST
DTSTART:19701101T020000
RRULE:FREQ=YEARLY;BYMONTH=11;BYDAY=1SU
END:STANDARD
END:VTIMEZONE
BEGIN:VEVENT
UID:1464587:Event:450782
DTSTAMP:20260421T003106Z
SUMMARY:The Whispers [11/21] LA
DESCRIPTION:\nThe Whispers\n\n\n\nCity National Grove of AnaheimAnahei
 m, CA\n\nFri, 11/21/1409:00 PM\n\n\n\n\n\nFor more information visit 
 https://trueskool.com/events/the-whispers-11-21-la
DTSTART;TZID=America/Los_Angeles:20141121T210000
DTEND;TZID=America/Los_Angeles:20141121T230000
CATEGORIES:"los angeles"
LOCATION:City National Grove of Anaheim
WEBSITE:http://www.ticketmaster.com/the-whispers-anaheim-california-11
 -21-2014/event/09004CF799D93827?artistid=821200&majorcatid=10001&minor
 catid=202&tm_link=browse_msg-0_09004CF799D93827
URL:http://www.ticketmaster.com/the-whispers-anaheim-california-11-21-
 2014/event/09004CF799D93827?artistid=821200&majorcatid=10001&minorcati
 d=202&tm_link=browse_msg-0_09004CF799D93827
CONTACT:
ORGANIZER;CN="Editor's Pick":https://trueskool.com/profile/RentheVinyl
 Archaeologist
ATTACH;FMTTYPE="image/jpeg":http://storage.ning.com/topology/rest/1.0/
 file/get/2247971627?profile=original
ATTENDEE;ROLE=REQ-PARTICIPANT;PARTSTAT=ACCEPTED;RSVP=TRUE;CN="Editor's
  Pick":https://trueskool.com/profile/RentheVinylArchaeologist
END:VEVENT
END:VCALENDAR
