BEGIN:VCALENDAR
PRODID:NingEventWidget-v1
VERSION:2.0
METHOD:PUBLISH
BEGIN:VTIMEZONE
TZID:America/Los_Angeles
X-LIC-LOCATION:America/Los_Angeles
BEGIN:DAYLIGHT
TZOFFSETFROM:-0800
TZOFFSETTO:-0700
TZNAME:PDT
DTSTART:19700308T020000
RRULE:FREQ=YEARLY;BYMONTH=3;BYDAY=2SU
END:DAYLIGHT
BEGIN:STANDARD
TZOFFSETFROM:-0700
TZOFFSETTO:-0800
TZNAME:PST
DTSTART:19701101T020000
RRULE:FREQ=YEARLY;BYMONTH=11;BYDAY=1SU
END:STANDARD
END:VTIMEZONE
BEGIN:VEVENT
UID:1464587:Event:674019
DTSTAMP:20260423T102338Z
SUMMARY:THE WEST COAST FLAVA RETURNS, SNEEK ROTHSTEIN Releases his DEB
 UT SINGLE \"WEST COASTRA NOSTRA\" 4/10/2018
DESCRIPTION:Already Spinning in the hands of the DJ COALITION, SNEEK R
 OTHSTEIN INTRODUCES His WEST COAST JEWEL To the WORLD on 4/10/18. Rate
 d a 5 outta 5 for that West Coast flava by THE Generals of the EAST CO
 AST, This is sure to grace the charts of Billboard in its release!\n\n
 For more information visit https://trueskool.com/events/the-west-coast
 -flava-returns-sneek-rothstein-releases-his-debut
DTSTART;TZID=America/Los_Angeles:20180410T000000
DTEND;TZID=America/Los_Angeles:20180410T235900
CATEGORIES:worldwide, "#spotify", "#pandora", "#itunes", "#amazon", "#
 google"
LOCATION:Worldwide *ITUNES* SPOTIFY*PANDORA*TIDAL*AMAZON*GOOGLE MUSIC
WEBSITE:
URL:
CONTACT:
ORGANIZER:True Skool
ATTACH;FMTTYPE="image/jpeg":http://storage.ning.com/topology/rest/1.0/
 file/get/2248005216?profile=original
ATTENDEE;ROLE=REQ-PARTICIPANT;PARTSTAT=ACCEPTED;RSVP=TRUE;CN=MCFL:http
 s://trueskool.com/profile/MCFL
END:VEVENT
END:VCALENDAR
