BEGIN:VCALENDAR
PRODID:NingEventWidget-v1
VERSION:2.0
METHOD:PUBLISH
BEGIN:VTIMEZONE
TZID:America/Los_Angeles
X-LIC-LOCATION:America/Los_Angeles
BEGIN:DAYLIGHT
TZOFFSETFROM:-0800
TZOFFSETTO:-0700
TZNAME:PDT
DTSTART:19700308T020000
RRULE:FREQ=YEARLY;BYMONTH=3;BYDAY=2SU
END:DAYLIGHT
BEGIN:STANDARD
TZOFFSETFROM:-0700
TZOFFSETTO:-0800
TZNAME:PST
DTSTART:19701101T020000
RRULE:FREQ=YEARLY;BYMONTH=11;BYDAY=1SU
END:STANDARD
END:VTIMEZONE
BEGIN:VEVENT
UID:1464587:Event:663961
DTSTAMP:20260421T065745Z
SUMMARY:The Wailers (WIN TICKETS)
DESCRIPTION: ENTER TO WIN A PAIR OF TICKETS. WINNER WILL BE DRAWN RAND
 OMLY AND ANNOUNCED 2 DAYS PRIOR TO EVENT.\n\n\n\nFri, September 15, 20
 17  The Wailers\n\n@ The UC Theatre, 2036 University, Berkeley, CA  Do
 ors: 7:00 pm / Show: 8:00 pm $32.00  >> BUY TICKETS\n\n\n\n\nFor more 
 information visit https://trueskool.com/events/the-wailers-win-tickets
DTSTART;TZID=America/Los_Angeles:20170915T190000
DTEND;TZID=America/Los_Angeles:20170915T230000
CATEGORIES:"bay area", berkeley
LOCATION:The UC Theatre, Berkeley
WEBSITE:http://www.theuctheatre.org/event/1509050
URL:http://www.theuctheatre.org/event/1509050
CONTACT:
ORGANIZER:The UC Theatre
ATTACH;FMTTYPE="image/jpeg":http://storage.ning.com/topology/rest/1.0/
 file/get/2247998082?profile=original
ATTENDEE;ROLE=REQ-PARTICIPANT;PARTSTAT=ACCEPTED;RSVP=TRUE;CN="Elisa Bj
 eldanes":https://trueskool.com/profile/ElisaBjeldanes
ATTENDEE;ROLE=REQ-PARTICIPANT;PARTSTAT=ACCEPTED;RSVP=TRUE;CN="Editor's
  Pick":https://trueskool.com/profile/RentheVinylArchaeologist
END:VEVENT
END:VCALENDAR
