BEGIN:VCALENDAR
PRODID:NingEventWidget-v1
VERSION:2.0
METHOD:PUBLISH
BEGIN:VTIMEZONE
TZID:America/Los_Angeles
X-LIC-LOCATION:America/Los_Angeles
BEGIN:DAYLIGHT
TZOFFSETFROM:-0800
TZOFFSETTO:-0700
TZNAME:PDT
DTSTART:19700308T020000
RRULE:FREQ=YEARLY;BYMONTH=3;BYDAY=2SU
END:DAYLIGHT
BEGIN:STANDARD
TZOFFSETFROM:-0700
TZOFFSETTO:-0800
TZNAME:PST
DTSTART:19701101T020000
RRULE:FREQ=YEARLY;BYMONTH=11;BYDAY=1SU
END:STANDARD
END:VTIMEZONE
BEGIN:VEVENT
UID:1464587:Event:508023
DTSTAMP:20260421T210125Z
SUMMARY:The Wailers perform 'Exodus'
DESCRIPTION:\nThursday-Saturday, January 29-31 Three Nights! The Waile
 rs perform 'Exodus'\n\nThe Independent San Francisco, CA\nShow 9:00PM 
 Purchase tickets\n\nFor more information visit https://trueskool.com/e
 vents/the-wailers-perform-exodus
DTSTART;TZID=America/Los_Angeles:20150129T210000
DTEND;TZID=America/Los_Angeles:20150131T230000
CATEGORIES:"bay area", "san francisco"
LOCATION:The Independent, San Francisco
WEBSITE:https://www.ticketfly.com/purchase/event/733939
URL:https://www.ticketfly.com/purchase/event/733939
CONTACT:
ORGANIZER:Another Planet Ent
ATTACH;FMTTYPE="image/jpeg":http://storage.ning.com/topology/rest/1.0/
 file/get/2247971813?profile=original
ATTENDEE;ROLE=REQ-PARTICIPANT;PARTSTAT=ACCEPTED;RSVP=TRUE;CN="Editor's
  Pick":https://trueskool.com/profile/RentheVinylArchaeologist
END:VEVENT
END:VCALENDAR
