BEGIN:VCALENDAR
PRODID:NingEventWidget-v1
VERSION:2.0
METHOD:PUBLISH
BEGIN:VTIMEZONE
TZID:America/Los_Angeles
X-LIC-LOCATION:America/Los_Angeles
BEGIN:DAYLIGHT
TZOFFSETFROM:-0800
TZOFFSETTO:-0700
TZNAME:PDT
DTSTART:19700308T020000
RRULE:FREQ=YEARLY;BYMONTH=3;BYDAY=2SU
END:DAYLIGHT
BEGIN:STANDARD
TZOFFSETFROM:-0700
TZOFFSETTO:-0800
TZNAME:PST
DTSTART:19701101T020000
RRULE:FREQ=YEARLY;BYMONTH=11;BYDAY=1SU
END:STANDARD
END:VTIMEZONE
BEGIN:VEVENT
UID:1464587:Event:92498
DTSTAMP:20260420T044944Z
SUMMARY:The Wailers perform 'Exodus', Revival Sound System
DESCRIPTION:Thursday-Friday, August 4-5\nTwo Nights!\nThe Wailers perf
 orm 'Exodus'\nRevival Sound System\n\nThe Independent\nSan Francisco, 
 CA\nshow 9:00PM\n[ BUY TICKETS ]\n\n\nFor more information visit https
 ://trueskool.com/events/the-wailers-perform-exodus-rev
DTSTART;TZID=America/Los_Angeles:20110804T210000
DTEND;TZID=America/Los_Angeles:20110805T233000
CATEGORIES:"bay area", "san francisco", ca
LOCATION:Independent, San Francisco, CA
WEBSITE:http://www.ticketfly.com/purchase/event/41819?__utma=1.1222131
 928.1301956061.1304973436.1304980810.69&__utmb=1.32.10.1304980810&__ut
 mc=1&__utmx=-&__utmz=1.1301956061.1.1.utmcsr=%28direct%29|utmccn=%28di
 rect%29|utmcmd=%28none%29&__utmv=-&__utmk=21413819
URL:http://www.ticketfly.com/purchase/event/41819?__utma=1.1222131928.
 1301956061.1304973436.1304980810.69&__utmb=1.32.10.1304980810&__utmc=1
 &__utmx=-&__utmz=1.1301956061.1.1.utmcsr=%28direct%29|utmccn=%28direct
 %29|utmcmd=%28none%29&__utmv=-&__utmk=21413819
CONTACT:
ORGANIZER:Another Planet
ATTACH;FMTTYPE="image/jpeg":http://storage.ning.com/topology/rest/1.0/
 file/get/2247853545?profile=original
ATTENDEE;ROLE=REQ-PARTICIPANT;PARTSTAT=ACCEPTED;RSVP=TRUE;CN="Ren the 
 Vinyl Archaeologist":https://trueskool.com/profile/xh51jvilojur
END:VEVENT
END:VCALENDAR
