BEGIN:VCALENDAR
PRODID:NingEventWidget-v1
VERSION:2.0
METHOD:PUBLISH
BEGIN:VTIMEZONE
TZID:America/Los_Angeles
X-LIC-LOCATION:America/Los_Angeles
BEGIN:DAYLIGHT
TZOFFSETFROM:-0800
TZOFFSETTO:-0700
TZNAME:PDT
DTSTART:19700308T020000
RRULE:FREQ=YEARLY;BYMONTH=3;BYDAY=2SU
END:DAYLIGHT
BEGIN:STANDARD
TZOFFSETFROM:-0700
TZOFFSETTO:-0800
TZNAME:PST
DTSTART:19701101T020000
RRULE:FREQ=YEARLY;BYMONTH=11;BYDAY=1SU
END:STANDARD
END:VTIMEZONE
BEGIN:VEVENT
UID:1464587:Event:318195
DTSTAMP:20260421T094758Z
SUMMARY:The Wailers (Los Angeles)
DESCRIPTION:\nThe Wailers\n\n\nDetails: The Wailers, British Depende
 ncy\n\n\nHouse of Blues Sunset StripWest Hollywood, CA\n\n Thu,  02
 /27/14 07:00 PM\n\n Find  Tickets »\n\n\n\n\n\nFor more informatio
 n visit https://trueskool.com/events/the-wailers-los-angeles
DTSTART;TZID=America/Los_Angeles:20140227T190000
DTEND;TZID=America/Los_Angeles:20140227T230000
CATEGORIES:"los angeles"
LOCATION:House of Blues Sunset Strip, Los Angeles
WEBSITE:http://www.ticketmaster.com/The-Wailers-tickets/artist/848111
URL:http://www.ticketmaster.com/The-Wailers-tickets/artist/848111
CONTACT:
ORGANIZER;CN="Editor's Pick":https://trueskool.com/profile/RentheVinyl
 Archaeologist
ATTACH;FMTTYPE="image/jpeg":http://storage.ning.com/topology/rest/1.0/
 file/get/2247957504?profile=original
ATTENDEE;ROLE=REQ-PARTICIPANT;PARTSTAT=ACCEPTED;RSVP=TRUE;CN="Editor's
  Pick":https://trueskool.com/profile/RentheVinylArchaeologist
END:VEVENT
END:VCALENDAR
