BEGIN:VCALENDAR
PRODID:NingEventWidget-v1
VERSION:2.0
METHOD:PUBLISH
BEGIN:VTIMEZONE
TZID:America/Los_Angeles
X-LIC-LOCATION:America/Los_Angeles
BEGIN:DAYLIGHT
TZOFFSETFROM:-0800
TZOFFSETTO:-0700
TZNAME:PDT
DTSTART:19700308T020000
RRULE:FREQ=YEARLY;BYMONTH=3;BYDAY=2SU
END:DAYLIGHT
BEGIN:STANDARD
TZOFFSETFROM:-0700
TZOFFSETTO:-0800
TZNAME:PST
DTSTART:19701101T020000
RRULE:FREQ=YEARLY;BYMONTH=11;BYDAY=1SU
END:STANDARD
END:VTIMEZONE
BEGIN:VEVENT
UID:1464587:Event:294538
DTSTAMP:20260421T095708Z
SUMMARY:The Wailers
DESCRIPTION:\nVenue:\nThe Independent\n\nLocation:\nSan Francisco, CA\
 n\nShow Date:\nFriday, March 21\n\nShow Time:\n9:00PM\n\nOn Sale Date:
 \nFriday, November 8\n\nTicket Price:\n$29.50 adv | $30 door *plus ap
 plicable service feesTickets available at The Independent (628 Divisad
 ero, SF) for no service charge.\n\n\n\n\n\nFor more information visit 
 https://trueskool.com/events/the-wailers-1
DTSTART;TZID=America/Los_Angeles:20140321T210000
DTEND;TZID=America/Los_Angeles:20140321T230000
CATEGORIES:"bay area", "san francisco", "oakland\""
LOCATION:The Independent, San Francisco
WEBSITE:http://www.ticketfly.com/purchase/event/415207?utm_medium=bks
URL:http://www.ticketfly.com/purchase/event/415207?utm_medium=bks
CONTACT:
ORGANIZER;CN="Editor's Pick":https://trueskool.com/profile/RentheVinyl
 Archaeologist
ATTACH;FMTTYPE="image/jpeg":http://storage.ning.com/topology/rest/1.0/
 file/get/2247955608?profile=original
ATTENDEE;ROLE=REQ-PARTICIPANT;PARTSTAT=ACCEPTED;RSVP=TRUE;CN="Eric Dur
 an":https://trueskool.com/profile/EricDuran
ATTENDEE;ROLE=REQ-PARTICIPANT;PARTSTAT=ACCEPTED;RSVP=TRUE;CN="Katrina 
 Shaw":https://trueskool.com/profile/KatrinaShaw
ATTENDEE;ROLE=REQ-PARTICIPANT;PARTSTAT=ACCEPTED;RSVP=TRUE;CN="Editor's
  Pick":https://trueskool.com/profile/RentheVinylArchaeologist
ATTENDEE;ROLE=REQ-PARTICIPANT;PARTSTAT=TENTATIVE;RSVP=TRUE;CN="Elisa B
 jeldanes":https://trueskool.com/profile/ElisaBjeldanes
END:VEVENT
END:VCALENDAR
