BEGIN:VCALENDAR
PRODID:NingEventWidget-v1
VERSION:2.0
METHOD:PUBLISH
BEGIN:VTIMEZONE
TZID:America/Los_Angeles
X-LIC-LOCATION:America/Los_Angeles
BEGIN:DAYLIGHT
TZOFFSETFROM:-0800
TZOFFSETTO:-0700
TZNAME:PDT
DTSTART:19700308T020000
RRULE:FREQ=YEARLY;BYMONTH=3;BYDAY=2SU
END:DAYLIGHT
BEGIN:STANDARD
TZOFFSETFROM:-0700
TZOFFSETTO:-0800
TZNAME:PST
DTSTART:19701101T020000
RRULE:FREQ=YEARLY;BYMONTH=11;BYDAY=1SU
END:STANDARD
END:VTIMEZONE
BEGIN:VEVENT
UID:1464587:Event:65648
DTSTAMP:20260420T083622Z
SUMMARY:the vinyl mixtape show streetsounds electro special
DESCRIPTION:the djweston weekly radio show, the vinyl mixtape show pay
 s its respect to the most inspirational uk hiphop label of its generat
 ion, streetsounds with the legendary electro series, this week we go f
 rom summer 1983 to winter 1985, from electro 1 to 10, also some promo'
 s from the nu-electro3 album available at streetsoundsmusic.co.uk\n\nh
 ttp://soundcloud.com/dj-paul-we/the-vinyl-mixtape-streetsounds-electro
 -special\n\nFor more information visit https://trueskool.com/events/th
 e-vinyl-mixtape-show
DTSTART;TZID=America/Los_Angeles:20100909T210000
DTEND;TZID=America/Los_Angeles:20100914T120000
CATEGORIES:leeds, uk
LOCATION:soundcloud
WEBSITE:http://soundcloud.com/dj-paul-we/the-vinyl-mixtape-streetsound
 s-electro-special
URL:http://soundcloud.com/dj-paul-we/the-vinyl-mixtape-streetsounds-el
 ectro-special
CONTACT:
ORGANIZER;CN="dj weston":https://trueskool.com/profile/djweston
ATTACH;FMTTYPE="image/jpeg":http://storage.ning.com/topology/rest/1.0/
 file/get/2247883071?profile=original
ATTENDEE;ROLE=REQ-PARTICIPANT;PARTSTAT=ACCEPTED;RSVP=TRUE;CN="dj westo
 n":https://trueskool.com/profile/djweston
END:VEVENT
END:VCALENDAR
