BEGIN:VCALENDAR
PRODID:NingEventWidget-v1
VERSION:2.0
METHOD:PUBLISH
BEGIN:VTIMEZONE
TZID:America/Los_Angeles
X-LIC-LOCATION:America/Los_Angeles
BEGIN:DAYLIGHT
TZOFFSETFROM:-0800
TZOFFSETTO:-0700
TZNAME:PDT
DTSTART:19700308T020000
RRULE:FREQ=YEARLY;BYMONTH=3;BYDAY=2SU
END:DAYLIGHT
BEGIN:STANDARD
TZOFFSETFROM:-0700
TZOFFSETTO:-0800
TZNAME:PST
DTSTART:19701101T020000
RRULE:FREQ=YEARLY;BYMONTH=11;BYDAY=1SU
END:STANDARD
END:VTIMEZONE
BEGIN:VEVENT
UID:1464587:Event:41657
DTSTAMP:20260421T022708Z
SUMMARY:THE VERY BEST (Radioclit & Esau Mwamwaya) Live!
DESCRIPTION:+++SHOW POSTPONED +++\nNew date to be announced shortly.\n
 Visit http://www.blasthaus.com for details\n--------------------------
 -------------------------------------\n\n\n\nFRI OCT 23\nblasthaus pre
 sents\nTHE VERY BEST (Radioclit & Esau Mwamwaya) Live!\nPlus Chief Boi
 ma!\n103 Harriet / SF / 21+ / $12 Advance\nhttp://www.blasthaus.com\n\
 n++ OPEN BAR for 1st Hour (10-11P)!! ++\n\nblasthaus presents the retu
 rn of THE VERY BEST (Radioclit & Esau Mwamwaya) Live! -Ghettopop Recor
 ds. These guys put out what Pitchfork called \"just about the most lis
 tenable and flat-out enjoyable record of the year\" (8.6 rating which 
 is incredible). We couldn't agree more and the best news of all is the
 y have a new record coming out in October to support which you can pur
 chase for an additional $12 (Just pick up your CD at the merch booth a
 t the show)\n\nBorn out of the love of hip hop's ethos to consistently
  push the boundaries forward by extrapolating what was unique about th
 e past and what is radically refreshing about the future, Radioclit's 
 Etienne Tron and Johan Karlberg have teamed up with Malawian songsmith
  Esau Mwamwaya to form The Very Best, an epic global partnership with 
 the sole aim to re-write western pop rules in a language which is not 
 English. It's the birth of a great partnership! Their recent release, 
 Mixtape, has garnered rave reviews from across the planet, and their u
 pcoming debut album will feature the likes of Vampire Weekend, M.I.A. 
 and Marina Vellow (formerly of Brazilian three-piece Bonde do Role.) T
 his will be another party to remember, so get ready!\n\nFor more infor
 mation visit https://trueskool.com/events/the-very-best-radioclit-esau
 -1
DTSTART;TZID=America/Los_Angeles:20091023T220000
DTEND;TZID=America/Los_Angeles:20091024T020000
CATEGORIES:hip, hop, african, funk, electro
LOCATION:103 Harriet
WEBSITE:
URL:
CONTACT:
ORGANIZER;CN=blasthaus:https://trueskool.com/profile/blasthaus
ATTACH;FMTTYPE="image/jpeg":http://storage.ning.com/topology/rest/1.0/
 file/get/2247871801?profile=original
ATTENDEE;ROLE=REQ-PARTICIPANT;PARTSTAT=ACCEPTED;RSVP=TRUE;CN=blasthaus
 :https://trueskool.com/profile/blasthaus
END:VEVENT
END:VCALENDAR
