BEGIN:VCALENDAR
PRODID:NingEventWidget-v1
VERSION:2.0
METHOD:PUBLISH
BEGIN:VTIMEZONE
TZID:America/Los_Angeles
X-LIC-LOCATION:America/Los_Angeles
BEGIN:DAYLIGHT
TZOFFSETFROM:-0800
TZOFFSETTO:-0700
TZNAME:PDT
DTSTART:19700308T020000
RRULE:FREQ=YEARLY;BYMONTH=3;BYDAY=2SU
END:DAYLIGHT
BEGIN:STANDARD
TZOFFSETFROM:-0700
TZOFFSETTO:-0800
TZNAME:PST
DTSTART:19701101T020000
RRULE:FREQ=YEARLY;BYMONTH=11;BYDAY=1SU
END:STANDARD
END:VTIMEZONE
BEGIN:VEVENT
UID:1464587:Event:63954
DTSTAMP:20260420T175918Z
SUMMARY:The Tendaloins Present 'Born n Raised' Feat The Dime & Tony Vi
 c
DESCRIPTION:Bay Natives? WHAT? Artists that were actually Born here? W
 ow no way? We got 3 AMAZING Acts from 3 AMAZING parts of the Bay Area\
 nWe all have stories to tell, and we choose to convey them through mus
 ic. Whether its expressing our love for home town, speaking on whats g
 oing on in our communities or just letting go and having fun with our 
 people. We are coming together to give you a musical tour and show you
  all whats really going ...on.\n\nWe have Tony Vic From Oakland. CA ww
 w.myspace.com/tonyvic\nThe Dime reppin Richmond, CA www.myspace.com/th
 edimemusic\nAnd The Tendaloins featuring J.Bloom & Senbei getting low 
 over here in San Francisco, CA www.myspace.com/tendaloins\n\nLike the 
 Loins here: http://www.facebook.com/pages/The-Tendaloins/1462864787242
 51\n\nPlease come and grove with us, this will def be a special night.
  Make sure you come on time for parking and bring your dancing shoes.\
 n\nFor more information visit https://trueskool.com/events/the-tendalo
 ins-present-born-n
DTSTART;TZID=America/Los_Angeles:20100821T210000
DTEND;TZID=America/Los_Angeles:20100822T020000
CATEGORIES:san, francisco, ca
LOCATION:The Rockit Room
WEBSITE:http://www.rock-it-room.com
URL:http://www.rock-it-room.com
CONTACT:
ORGANIZER;CN="P. Delawarr":https://trueskool.com/profile/PDelawarr
ATTACH;FMTTYPE="image/jpeg":http://storage.ning.com/topology/rest/1.0/
 file/get/2247882658?profile=original
ATTENDEE;ROLE=REQ-PARTICIPANT;PARTSTAT=ACCEPTED;RSVP=TRUE;CN="P. Delaw
 arr":https://trueskool.com/profile/PDelawarr
END:VEVENT
END:VCALENDAR
