BEGIN:VCALENDAR
PRODID:NingEventWidget-v1
VERSION:2.0
METHOD:PUBLISH
BEGIN:VTIMEZONE
TZID:America/Los_Angeles
X-LIC-LOCATION:America/Los_Angeles
BEGIN:DAYLIGHT
TZOFFSETFROM:-0800
TZOFFSETTO:-0700
TZNAME:PDT
DTSTART:19700308T020000
RRULE:FREQ=YEARLY;BYMONTH=3;BYDAY=2SU
END:DAYLIGHT
BEGIN:STANDARD
TZOFFSETFROM:-0700
TZOFFSETTO:-0800
TZNAME:PST
DTSTART:19701101T020000
RRULE:FREQ=YEARLY;BYMONTH=11;BYDAY=1SU
END:STANDARD
END:VTIMEZONE
BEGIN:VEVENT
UID:1464587:Event:33535
DTSTAMP:20260422T014940Z
SUMMARY:THE TAKEOVER 2
DESCRIPTION:*YES YES YA'LL!!! WERE TAKIN OVER AGAIN @ MILKBAR FRIDAY, 
 JUNE 12TH WIT ANOTHER FRESH HIP HOP/R&B/TOP 40 party dedicated 2 all m
 y ladies and gents who are out there in the world makin moves!!! 4 the
  kids who don't wait for things 2 happen...THEY MAKE THINGS HAPPEN!!\n
 *This month we got RED STRIPES FOR 3$ AND PATRON COCKTAILS FOR 7$!!!!*
 \nW/ SPECIAL GUEST DJ(s)\nDj Aron (good company)\nDj Prince Aries (D2S
 )\nDj Dion Decibels (thinkbeat radio)\non tha 1's & 2's servin up thei
 r style of FLAVA IN YA EAR jus tha way u like it!!*\nBrought 2 u by: A
 bove Ground Productions/Verse/MilkBar/RushOne\n*THE TAKEOVER!! THA BRE
 AKS OVER*\n\nFor more information visit https://trueskool.com/events/t
 he-takeover-2
DTSTART;TZID=America/Los_Angeles:20090612T210000
DTEND;TZID=America/Los_Angeles:20090613T020000
CATEGORIES:hip, hop
LOCATION:MILK, SAN FRANCISCO, CA.
WEBSITE:http://WWW.MILKSF.COM
URL:http://WWW.MILKSF.COM
CONTACT:
ORGANIZER:DISDIK
ATTACH;FMTTYPE="image/jpeg":http://storage.ning.com/topology/rest/1.0/
 file/get/2247858156?profile=original
ATTENDEE;ROLE=REQ-PARTICIPANT;PARTSTAT=ACCEPTED;RSVP=TRUE;CN=MItchell:
 https://trueskool.com/profile/MItchell
END:VEVENT
END:VCALENDAR
