BEGIN:VCALENDAR
PRODID:NingEventWidget-v1
VERSION:2.0
METHOD:PUBLISH
BEGIN:VTIMEZONE
TZID:America/Los_Angeles
X-LIC-LOCATION:America/Los_Angeles
BEGIN:DAYLIGHT
TZOFFSETFROM:-0800
TZOFFSETTO:-0700
TZNAME:PDT
DTSTART:19700308T020000
RRULE:FREQ=YEARLY;BYMONTH=3;BYDAY=2SU
END:DAYLIGHT
BEGIN:STANDARD
TZOFFSETFROM:-0700
TZOFFSETTO:-0800
TZNAME:PST
DTSTART:19701101T020000
RRULE:FREQ=YEARLY;BYMONTH=11;BYDAY=1SU
END:STANDARD
END:VTIMEZONE
BEGIN:VEVENT
UID:1464587:Event:842392
DTSTAMP:20260421T004307Z
SUMMARY:THE SUGARHILL GANG
DESCRIPTION:THE SUGARHILL GANG\r\nFRI APRIL 10, 2026 DOORS: 7:00PM SHO
 W: 7:30PM\r\nYoshi's 510 Embarcadero West, Oakland, CA 94607\n\nFor mo
 re information visit https://trueskool.com/events/the-sugarhill-gang
DTSTART;TZID=America/Los_Angeles:20260410T193000
DTEND;TZID=America/Los_Angeles:20260410T233000
CATEGORIES:"bay area", oakland, "san francisco", "san jose", berkeley
LOCATION:Yoshi's, Oakland
WEBSITE:https://www.etix.com/ticket/p/45091024/sugarhill-gang-fri41026
 -oakland-yoshis?_gl=1*v20vrc*_gcl_aw*R0NMLjE3NzEyNzc4OTIuQ2owS0NRand6d
 F9GQmhDRUFSSXNBSkdGV1ZtaG1Id0dmclJrcUJmWlhQaGtQcVQxbjJ5a0QyLUxOQUxEbWh
 CZnItNGhpMkpIR3VBeXZoNGFBcG1qRUFMd193Y0I.*_gcl_au*MTg3NDgzMDU3MC4xNzYz
 ODQ1MTA3*_ga*ODU3NzA1MDk4LjE3NTAzMzQ5MTc.*_ga_EMD61K2NED*czE3NzEyNzY4M
 DQkbzQkZzEkdDE3NzEyNzc4OTIkajUwJGwwJGgw
URL:https://www.etix.com/ticket/p/45091024/sugarhill-gang-fri41026-oak
 land-yoshis?_gl=1*v20vrc*_gcl_aw*R0NMLjE3NzEyNzc4OTIuQ2owS0NRand6dF9GQ
 mhDRUFSSXNBSkdGV1ZtaG1Id0dmclJrcUJmWlhQaGtQcVQxbjJ5a0QyLUxOQUxEbWhCZnI
 tNGhpMkpIR3VBeXZoNGFBcG1qRUFMd193Y0I.*_gcl_au*MTg3NDgzMDU3MC4xNzYzODQ1
 MTA3*_ga*ODU3NzA1MDk4LjE3NTAzMzQ5MTc.*_ga_EMD61K2NED*czE3NzEyNzY4MDQkb
 zQkZzEkdDE3NzEyNzc4OTIkajUwJGwwJGgw
CONTACT:
ORGANIZER;CN="Editor's Pick":https://trueskool.com/profile/RentheVinyl
 Archaeologist
ATTACH;FMTTYPE="image/jpeg":https://storage.ning.com/topology/rest/1.0
 /file/get/31087185662?profile=original
ATTENDEE;ROLE=REQ-PARTICIPANT;PARTSTAT=ACCEPTED;RSVP=TRUE;CN="Editor's
  Pick":https://trueskool.com/profile/RentheVinylArchaeologist
END:VEVENT
END:VCALENDAR
