BEGIN:VCALENDAR
PRODID:NingEventWidget-v1
VERSION:2.0
METHOD:PUBLISH
BEGIN:VTIMEZONE
TZID:America/Los_Angeles
X-LIC-LOCATION:America/Los_Angeles
BEGIN:DAYLIGHT
TZOFFSETFROM:-0800
TZOFFSETTO:-0700
TZNAME:PDT
DTSTART:19700308T020000
RRULE:FREQ=YEARLY;BYMONTH=3;BYDAY=2SU
END:DAYLIGHT
BEGIN:STANDARD
TZOFFSETFROM:-0700
TZOFFSETTO:-0800
TZNAME:PST
DTSTART:19701101T020000
RRULE:FREQ=YEARLY;BYMONTH=11;BYDAY=1SU
END:STANDARD
END:VTIMEZONE
BEGIN:VEVENT
UID:1464587:Event:61839
DTSTAMP:20260420T211815Z
SUMMARY:The Soul Cypher
DESCRIPTION:The Soul Cypher is quarterly music series that fuses toget
 her spoken word, art, live instrumentation and soul into a melodic gum
 bo for the senses. Introducing both underground and mainstream talent,
  this event boasts some of the freshest and most professional artists 
 to ever step foot on Bay Area soil. Originally established in 2006, Ho
 t Water Cornbread is again bringing you the nourishment your Spirit so
  desperately needs!!\n\n\nAugust 12, 2010 Lineup\n\nFeaturing\n\nHBO D
 EF POETS:\n\nAMIR SULAIMAN & SUNNI PATTERSON\n\nBAY AREA POETS OF THE 
 YEAR:\n\nRYAN NICOLE PETERS & PRENTICE POWELL\n\n\nMUSIC BY:\n\nYAHZAR
 AH aka PURPLE ST. JAMES (THE FOREIGN EXCHANGE)\n\nCHOKLATE\n\n&\n\nDAN
 TE MCCLINTON & THE REAL\n\n\nHOSTED BY MARTIN LUTHER\n\n&\n\nAFTER-PAR
 TY HOSTED BY\n\nTOP TEN SOCIAL\n\nw/ DJ HECTOR\n\n\nPlease visit www.T
 heSoulCypher.com for additional information.\n\nHot Water Cornbread\n\
 nCome Hungry...Leave Full!!\n\nFor more information visit https://true
 skool.com/events/the-soul-cypher
DTSTART;TZID=America/Los_Angeles:20100812T200000
DTEND;TZID=America/Los_Angeles:20100812T223000
CATEGORIES:spoken, word, soul, hip, hop, "r&b", poetry, live, music
LOCATION:The New Parish
WEBSITE:http://www.thenewparish.com
URL:http://www.thenewparish.com
CONTACT:510-754-8830
ORGANIZER;CN=HotWaterCornbread:https://trueskool.com/profile/HotWaterC
 ornbread
ATTACH;FMTTYPE="image/jpeg":http://storage.ning.com/topology/rest/1.0/
 file/get/2247884846?profile=original
ATTENDEE;ROLE=REQ-PARTICIPANT;PARTSTAT=ACCEPTED;RSVP=TRUE;CN=HotWaterC
 ornbread:https://trueskool.com/profile/HotWaterCornbread
END:VEVENT
END:VCALENDAR
