BEGIN:VCALENDAR
PRODID:NingEventWidget-v1
VERSION:2.0
METHOD:PUBLISH
BEGIN:VTIMEZONE
TZID:America/Los_Angeles
X-LIC-LOCATION:America/Los_Angeles
BEGIN:DAYLIGHT
TZOFFSETFROM:-0800
TZOFFSETTO:-0700
TZNAME:PDT
DTSTART:19700308T020000
RRULE:FREQ=YEARLY;BYMONTH=3;BYDAY=2SU
END:DAYLIGHT
BEGIN:STANDARD
TZOFFSETFROM:-0700
TZOFFSETTO:-0800
TZNAME:PST
DTSTART:19701101T020000
RRULE:FREQ=YEARLY;BYMONTH=11;BYDAY=1SU
END:STANDARD
END:VTIMEZONE
BEGIN:VEVENT
UID:1464587:Event:215098
DTSTAMP:20260422T151723Z
SUMMARY:The Social 7/19 : Mars Today w/Live Band, DYNAMIC (Album Relea
 se Party), sayknowledge, Mikos & The Whooligan
DESCRIPTION:\n \nEarshot Ent. & Zatoon Present: The Social 7/19 10$ -
  Show @ 10pm - 21+\nMars Today w/Live Band Ft.  Cait La Dee\nDo Dat\nR
 yan Nicole (Nu Dekades)\nRocky Ramirez\nAlex Lee (Le Vice) & more!!\nD
 ynamic (Album Release Celebration)\nOpening set from sayknowledge\nSou
 nd Selectors - The Whooligan (Om Records) & Mikos Da Gawd (40Love)\nMa
 rs Today has been a fixture in the Bay Area's live band hip-hop scene 
 for years. He has released 2 full albums as an artist (formerly known 
 as Yung Mars), both of which charted in the top 5 Hip-Hop albums on Na
 tional College Radio at the time of their release. Drifting away from 
 rapping, he started to take regular vocal lessons, and focused more on
  singing, songwriting, and producing for other artists. He has produce
 d for such artists as Los Rakas, sayknowledge, Rojai (Bayonics), Cashi
 us Green, & Cait La Dee to name a few… Most recently he produced an 
 album of un-official remixes entitled \"The Re-Mixtape\", creating new
  musical arrangements for some of his favorite songs. For the live sho
 w, each featured artist will be coming on stage to perform 2 songs tha
 t were either produced by, or remixed by Mars Today.\nDYNAMIC's authen
 tic expression offers a multitude of soulful flavors that magnify the 
 senses and stimulate the mind. Their combined musical influences have 
 defined a home-grown sound that is internationally recognizable with s
 olid grooves, strong melodies and powerful yet simple lyrics. Labeled 
 “One of the Best Hip-Hop Bands of the Bay” by the San Francisco Ch
 ronicle, DYNAMIC is taking the world by storm! They just finished prod
 uction on a new album entitled \"Microcosmic\", and are excited to int
 roduce the world to their new sounds!!\nsayknowledge: Praised by hip-h
 op enthusiasts as a young rap prodigy mature beyond his years, sayknow
 ledge has a penchant for matching \"highbrow\" lyricism, with street a
 ccessibility. He has a dizzyingly malleable flow, stretched wide by a 
 broad range of multigenerational pop-culture references. Raised in San
  Francisco, he started making music at a young age, pushing the hyphy 
 movement with his friends until they saw it slip away into commerciali
 sm. Eventually he struck out on his own, forging new sonic paths influ
 enced not only by the Bay Area sound, but also classic R&B, soul, regg
 ae, & funk music. He recently released his first full album entitled \
 "Vibe Called Quest\", which was produced Mars Today & Mikos (40Love).\
 nJulio Galvez aka The Whooligan (OM), is a rising taste maker known fo
 r his love and dedication to music and his community. Whether blending
  two records in a unique way or creating an original one of his own, t
 he running thread in all his work is the passion for music and the peo
 ple he spins it for.\nMikos Da Gawd is one of the most well respected 
 producer/dj's in the Bay Area. He is truly a talented musician in his 
 own right, producing for such artists as HAZE, George Watsky, A-1, 40L
 ove, Black Spade, Zion I & more!! As a dj he prides himself on his abi
 lity to make people dance, and roll seamlessly from 90's R&B into mode
 rn Club slaps..\nPromo Support from www.deeceesoulshakedown.com For mo
 re info on Zatoon please check out their blog or clothing line @www.za
 toonstore.com or www.zatoon.co/blog\n\nFor more information visit http
 s://trueskool.com/events/the-social-7-19-mars-today-w-live-band-dynami
 c-album-release
DTSTART;TZID=America/Los_Angeles:20130719T220000
DTEND;TZID=America/Los_Angeles:20130720T020000
CATEGORIES:san, francisco, ca
LOCATION:Elbo Room
WEBSITE:http://elbo.com
URL:http://elbo.com
CONTACT:
ORGANIZER;CN="Mars Today":https://trueskool.com/profile/MrMarsToday
ATTACH;FMTTYPE="image/jpeg":http://storage.ning.com/topology/rest/1.0/
 file/get/2247943963?profile=original
ATTENDEE;ROLE=REQ-PARTICIPANT;PARTSTAT=ACCEPTED;RSVP=TRUE;CN="m.deep.m
 usic":https://trueskool.com/profile/mdeepmusic
ATTENDEE;ROLE=REQ-PARTICIPANT;PARTSTAT=ACCEPTED;RSVP=TRUE;CN="Mars Tod
 ay":https://trueskool.com/profile/MrMarsToday
END:VEVENT
END:VCALENDAR
