BEGIN:VCALENDAR
PRODID:NingEventWidget-v1
VERSION:2.0
METHOD:PUBLISH
BEGIN:VTIMEZONE
TZID:America/Los_Angeles
X-LIC-LOCATION:America/Los_Angeles
BEGIN:DAYLIGHT
TZOFFSETFROM:-0800
TZOFFSETTO:-0700
TZNAME:PDT
DTSTART:19700308T020000
RRULE:FREQ=YEARLY;BYMONTH=3;BYDAY=2SU
END:DAYLIGHT
BEGIN:STANDARD
TZOFFSETFROM:-0700
TZOFFSETTO:-0800
TZNAME:PST
DTSTART:19701101T020000
RRULE:FREQ=YEARLY;BYMONTH=11;BYDAY=1SU
END:STANDARD
END:VTIMEZONE
BEGIN:VEVENT
UID:1464587:Event:69513
DTSTAMP:20260420T194553Z
SUMMARY:The Silver Ball Biss Holiday Party!
DESCRIPTION:BISS Entertainment presents:\n\nThe Silver Ball BISS Holid
 ay Party!\n\nA host of local musicians and arts organizations are join
 ing forces for a special holiday celebration, The Silver Ball, on Wedn
 esday, December 1 at The Independent. Presented by the Bay Area's Biss
  Entertainment, the event features San Francisco bands The New Up, ber
 nadette, Crackerjack Highway and M80 Mailbox, artists on the Biss rost
 er who also share an affiliation as teachers, staff and alumni of San 
 Francisco non-profit Blue Bear School of Music. Local DJ Jack Frost, f
 ixture of Antarctica and Blackcrack NYC parties, will spin between set
 s. The Silver Ball is a party of epic proportions that also serves a p
 urpose: a portion of proceeds will be donated to Blue Bear to help the
  school continue its 39-year legacy of bringing innovative and afforda
 ble music education programs to anyone, regardless of financial means,
  who is motivated to sing, play or craft a song. Festivel silver attir
 e is encouraged, and advance tickets are recommended.\n\nLINEUP:\nM80 
 Mailbox (featuring Josh Clark of Tea Leaf Green, Dave Brogan of ALO & 
 Sean Leahy), bernadette, The New Up, Crackerjack Highway, DJ Jack Fros
 t\nThe Independent\nWed, December 1, 2010\nDoors: 7:30 PM / Show: 8:00
  PM\n$12 ADV | $14 DOOR\n\nFor more information visit https://trueskoo
 l.com/events/the-silver-ball-biss-holiday
DTSTART;TZID=America/Los_Angeles:20101201T200000
DTEND;TZID=America/Los_Angeles:20101202T000000
CATEGORIES:san, francisco, ca
LOCATION:The Independent
WEBSITE:http://www.theindependentsf.com
URL:http://www.theindependentsf.com
CONTACT:
ORGANIZER;CN="Blythe Nelson":https://trueskool.com/profile/BlytheNelso
 n
ATTACH;FMTTYPE="image/jpeg":http://storage.ning.com/topology/rest/1.0/
 file/get/2247886914?profile=original
ATTENDEE;ROLE=REQ-PARTICIPANT;PARTSTAT=ACCEPTED;RSVP=TRUE;CN="Blythe N
 elson":https://trueskool.com/profile/BlytheNelson
END:VEVENT
END:VCALENDAR
