BEGIN:VCALENDAR
PRODID:NingEventWidget-v1
VERSION:2.0
METHOD:PUBLISH
BEGIN:VTIMEZONE
TZID:America/Los_Angeles
X-LIC-LOCATION:America/Los_Angeles
BEGIN:DAYLIGHT
TZOFFSETFROM:-0800
TZOFFSETTO:-0700
TZNAME:PDT
DTSTART:19700308T020000
RRULE:FREQ=YEARLY;BYMONTH=3;BYDAY=2SU
END:DAYLIGHT
BEGIN:STANDARD
TZOFFSETFROM:-0700
TZOFFSETTO:-0800
TZNAME:PST
DTSTART:19701101T020000
RRULE:FREQ=YEARLY;BYMONTH=11;BYDAY=1SU
END:STANDARD
END:VTIMEZONE
BEGIN:VEVENT
UID:1464587:Event:630812
DTSTAMP:20260422T045035Z
SUMMARY:The Shady Bunch - Daytime Dance Party
DESCRIPTION:SF Queer Daytime Hip Hop Party - The Shady Bunch! \nLeave
  the shade at the door and enjoy this monthly kiki with us!\n\nSaturda
 y June 20, 2015\nFREE b4 6pm!\n5-9pm\n$3 Cover\n21+\n\nDJs Andre & Jib
 bz droppin all the club hits, Trap Hip Hop Rap Top40 Dancehall!! \n\n
 Gogo Babes!\nJohna & Krystle \n\n*Drink Specials* \n2 for 1 well dri
 nks\n$2 selected beers \n\nFor more information visit https://truesko
 ol.com/events/the-shady-bunch-daytime-dance-party
DTSTART;TZID=America/Los_Angeles:20150620T170000
DTEND;TZID=America/Los_Angeles:20150620T210000
CATEGORIES:qbarsf
LOCATION:QBar SF
WEBSITE:
URL:
CONTACT:
ORGANIZER;CN="DeeJay Andre":https://trueskool.com/profile/DeeJayAndre
ATTACH;FMTTYPE="image/jpeg":http://storage.ning.com/topology/rest/1.0/
 file/get/2247978564?profile=original
ATTENDEE;ROLE=REQ-PARTICIPANT;PARTSTAT=ACCEPTED;RSVP=TRUE;CN="DeeJay A
 ndre":https://trueskool.com/profile/DeeJayAndre
END:VEVENT
END:VCALENDAR
