BEGIN:VCALENDAR
PRODID:NingEventWidget-v1
VERSION:2.0
METHOD:PUBLISH
BEGIN:VTIMEZONE
TZID:America/Los_Angeles
X-LIC-LOCATION:America/Los_Angeles
BEGIN:DAYLIGHT
TZOFFSETFROM:-0800
TZOFFSETTO:-0700
TZNAME:PDT
DTSTART:19700308T020000
RRULE:FREQ=YEARLY;BYMONTH=3;BYDAY=2SU
END:DAYLIGHT
BEGIN:STANDARD
TZOFFSETFROM:-0700
TZOFFSETTO:-0800
TZNAME:PST
DTSTART:19701101T020000
RRULE:FREQ=YEARLY;BYMONTH=11;BYDAY=1SU
END:STANDARD
END:VTIMEZONE
BEGIN:VEVENT
UID:1464587:Event:70163
DTSTAMP:20260420T145816Z
SUMMARY:THE SF FUNK FEST HOUSE PARTY ft. QBERT & ALL GOOD FUNK ALLIANC
 E
DESCRIPTION:CLICK HERE TO WIN A PAIR OF TICKETS:\nhttp://www.trueskool
 .com/group/wintickets\n\n\nSATURDAY, NOVEMBER 20\nSunset Promotions pr
 esents the 9th Annual\nTHE SF FUNK FEST HOUSE PARTY\nfeaturing an excl
 usive funk, soul, disco set by Bay Area native and one of the greatest
  djs, turntablists, composers, and innovators on planet earth\nDJ QBER
 T\nALL GOOD FUNK ALLIANCE\nMOTION POTION All JAMES BROWN SET\nDJ MARKY
  (Massive Selector)\n\n@ MEZZANINE - 444 JESSIE ST @ MINT\nEarlybird t
 ickets are $10. When they run out, the price goes up. 21+. Doors 9pm.\
 nBuy Tickets\n\nThe SF Funk Festival is keeping the funk alive with it
 s annual \"House Party\" on Saturday, November 20 at Mezzanine. The ni
 ght will feature several different takes on the art of funk by four ve
 ry different DJs. Legendray Bay Area turntable trailblazer, DJ QBert w
 ill headline the night with an exclusive set devoted to funk, soul, di
 sco and oldschool floorshakers. Washington DC nufunk producer All Good
  Funk Alliance will be on-hand to close the night with his patented fu
 nky midtempo breakbeats. SF Funk Festival founder Motion Potion will p
 lay an all-James Brown set and and Massive Selector/Sweater Funk DJ Ma
 rky drop choice vinyl. It all adds up to several different takes on th
 e great American art of funk.\n\nDJ QBert (b. Richard Quitevis) first 
 emerged in the underground turntablist scene as a member of San Franci
 sco's Invisibl Skratch Piklz. Along with other Bay Area groups like th
 e X-Men and the World Famous Beat Junkies, the Piklz were determined t
 o re-establish the DJs place in rap music. Looking backward into rap's
  past and forward into its future, Q-Bert and the Skratch Piklz champi
 oned a move away from the empty showmanship DJing had become toward th
 e essential elements of technique and musicianship. Q-Bert in particul
 ar embarked on a mission outside the rap community, to dispel misconce
 ptions about the DJs art through teaching and preaching the gospel of 
 the turntable.\n\nQ-Bert has become a sort of ambassador for the turnt
 able. He has gained great respect both for his spectacular skills (inc
 luding numerous scratch inventions) and for his work to help the turnt
 able community. Along with Mix Master Mike, he was inducted into the D
 MC DJ Hall of Fame in 1998. As a group, the Invisibl Skratch Piklz mad
 e A. Magazine's 100 Most Influential Asian American's list in 1999. Th
 at same year, the group called it quits in an amicable breakup. Q-Bert
  kept busy, lecturing at Scratchcon 2000 and launching Wave Twisters t
 he movie (an animated feature film based on the album). He has toured 
 the world constantly, establishing a multi-media empire at ThudRumble,
  and even designed scratch mixers for Vestax. There are few people on 
 earth who have done as much for the art of DJing as DJ Q-Bert.\n\nAllg
 ood Funk Alliance has been churning out newschool funk with an oldscho
 ol sound for years now. With some of the most coveted limited-release 
 breaks records on the planet emerging from their Washington DC-based F
 unk Weapons label, AGFA has emerged as a leader in the struggle to mak
 e dance music relevant to folks who like the live sound. AGFA makes fu
 nk that sounds like... well... funk and after almost 5 years and a doz
 en releases under their belt, it's safe to say that the Funk is here t
 o stay.\n\nFor more information visit https://trueskool.com/events/the
 -sf-funk-fest-house-party
DTSTART;TZID=America/Los_Angeles:20101120T210000
DTEND;TZID=America/Los_Angeles:20101121T020000
CATEGORIES:bay, area, san, francisco, ca
LOCATION:Mezzanine, San Francisco, CA
WEBSITE:http://www.sunsetpromotions.net/events/133992/DJ-QBERT--SF-Fun
 k-House-Party
URL:http://www.sunsetpromotions.net/events/133992/DJ-QBERT--SF-Funk-Ho
 use-Party
CONTACT:
ORGANIZER:Sunset Promotions
ATTACH;FMTTYPE="image/jpeg":http://storage.ning.com/topology/rest/1.0/
 file/get/2247875041?profile=original
ATTENDEE;ROLE=REQ-PARTICIPANT;PARTSTAT=ACCEPTED;RSVP=TRUE;CN=DirtyNuke
 s:https://trueskool.com/profile/DirtyNukes
ATTENDEE;ROLE=REQ-PARTICIPANT;PARTSTAT=ACCEPTED;RSVP=TRUE;CN="Ren the 
 Vinyl Archaeologist":https://trueskool.com/profile/xh51jvilojur
END:VEVENT
END:VCALENDAR
