BEGIN:VCALENDAR
PRODID:NingEventWidget-v1
VERSION:2.0
METHOD:PUBLISH
BEGIN:VTIMEZONE
TZID:America/Los_Angeles
X-LIC-LOCATION:America/Los_Angeles
BEGIN:DAYLIGHT
TZOFFSETFROM:-0800
TZOFFSETTO:-0700
TZNAME:PDT
DTSTART:19700308T020000
RRULE:FREQ=YEARLY;BYMONTH=3;BYDAY=2SU
END:DAYLIGHT
BEGIN:STANDARD
TZOFFSETFROM:-0700
TZOFFSETTO:-0800
TZNAME:PST
DTSTART:19701101T020000
RRULE:FREQ=YEARLY;BYMONTH=11;BYDAY=1SU
END:STANDARD
END:VTIMEZONE
BEGIN:VEVENT
UID:1464587:Event:31670
DTSTAMP:20260421T020059Z
SUMMARY:The Roots
DESCRIPTION:\nThe Roots\nPerforming Live\n\n@ the Davies Symphony Hall
 \nSan Francisco, Ca\n\nSaturday May 30th\n\nDoors @ 8pm\n\nALL AGES\n\
 nTickets Available Now @\n\nhttp://www.sfjazz.org/concerts/2009/spring
 /artists/roots.asp\nor call 866.920.5299\n\nFor more information visit
  https://trueskool.com/events/the-roots
DTSTART;TZID=America/Los_Angeles:20090530T200000
DTEND;TZID=America/Los_Angeles:20090531T230000
CATEGORIES:hip, hop
LOCATION:Davies Symphony Hall, San Francisco, CA
WEBSITE:http://www.sfjazz.org/concerts/2009/spring/artists/roots.asp
URL:http://www.sfjazz.org/concerts/2009/spring/artists/roots.asp
CONTACT:
ORGANIZER:SFJazz
ATTACH;FMTTYPE="image/jpeg":http://storage.ning.com/topology/rest/1.0/
 file/get/2247856716?profile=original
ATTENDEE;ROLE=REQ-PARTICIPANT;PARTSTAT=ACCEPTED;RSVP=TRUE;CN="Ren the 
 Vinyl Archaeologist":https://trueskool.com/profile/xh51jvilojur
END:VEVENT
END:VCALENDAR
