BEGIN:VCALENDAR
PRODID:NingEventWidget-v1
VERSION:2.0
METHOD:PUBLISH
BEGIN:VTIMEZONE
TZID:America/Los_Angeles
X-LIC-LOCATION:America/Los_Angeles
BEGIN:DAYLIGHT
TZOFFSETFROM:-0800
TZOFFSETTO:-0700
TZNAME:PDT
DTSTART:19700308T020000
RRULE:FREQ=YEARLY;BYMONTH=3;BYDAY=2SU
END:DAYLIGHT
BEGIN:STANDARD
TZOFFSETFROM:-0700
TZOFFSETTO:-0800
TZNAME:PST
DTSTART:19701101T020000
RRULE:FREQ=YEARLY;BYMONTH=11;BYDAY=1SU
END:STANDARD
END:VTIMEZONE
BEGIN:VEVENT
UID:1464587:Event:459979
DTSTAMP:20260421T083808Z
SUMMARY:THE RIGHT TIME w/ Junk Parlor at The Boom Boom Room SF
DESCRIPTION:You have known FENTON COOLFOOT AND THE RTIGHT TIME for a f
 ew years now. They have been on one of the hottest rides a band has be
 en on coming up in the bay in a long time, packing houses and crushing
  stages show after show. The have snagged the best slots at your favor
 ite local festivals and city sponsored events for a while now, and hav
 e just finished a great new record that will be released globally in j
 anuary of 2015. This Black Wednesday Party should not dis-appoint, the
 ses guys are one of the most fun young bands and there fans are just t
 he same. Get Here. Below is the info from the Rad Fellas in Junk Parlo
 r who are hosting THE RIGHT TIME on Nov 26th!FROM THE JUNK PARLOR FACE
 BOOK EVENT: Our \"every 4th Wednesday residency\" continues at Boom Bo
 om Room Presents! We will be joined by Kalei Yamanoha from The Crux on
  Accordian, the lovely Emily Zisman from the Americano Social Club on 
 vocals and our beach combing, surfer dude buddy Eli Carlton-Pearson fr
 om Physical Suicide Deterrent System Project on guitar! And if that's 
 not enough get your groove on with the \"funksteady\" FenTonCooLfoot &
  THE RIGHT TIME!\n\nFor more information visit https://trueskool.com/e
 vents/the-right-time-w-junk-parlor-at-the-boom-boom-room-sf
DTSTART;TZID=America/Los_Angeles:20141126T210000
DTEND;TZID=America/Los_Angeles:20141127T030000
CATEGORIES:boom, room, san, francisco
LOCATION:Boom Boom Room, San Francisco
WEBSITE:http://www.boomboomblues.com/event/junk-parlor-4th-wednesday-o
 f-every-month-w-special-guests/
URL:http://www.boomboomblues.com/event/junk-parlor-4th-wednesday-of-ev
 ery-month-w-special-guests/
CONTACT:
ORGANIZER;CN="FenToN CooLfooT":https://trueskool.com/profile/FenToNCoo
 LfooT
ATTACH;FMTTYPE="image/jpeg":http://storage.ning.com/topology/rest/1.0/
 file/get/2247969155?profile=original
ATTENDEE;ROLE=REQ-PARTICIPANT;PARTSTAT=ACCEPTED;RSVP=TRUE;CN="FenToN C
 ooLfooT":https://trueskool.com/profile/FenToNCooLfooT
END:VEVENT
END:VCALENDAR
