BEGIN:VCALENDAR
PRODID:NingEventWidget-v1
VERSION:2.0
METHOD:PUBLISH
BEGIN:VTIMEZONE
TZID:America/Los_Angeles
X-LIC-LOCATION:America/Los_Angeles
BEGIN:DAYLIGHT
TZOFFSETFROM:-0800
TZOFFSETTO:-0700
TZNAME:PDT
DTSTART:19700308T020000
RRULE:FREQ=YEARLY;BYMONTH=3;BYDAY=2SU
END:DAYLIGHT
BEGIN:STANDARD
TZOFFSETFROM:-0700
TZOFFSETTO:-0800
TZNAME:PST
DTSTART:19701101T020000
RRULE:FREQ=YEARLY;BYMONTH=11;BYDAY=1SU
END:STANDARD
END:VTIMEZONE
BEGIN:VEVENT
UID:1464587:Event:71263
DTSTAMP:20260421T020527Z
SUMMARY:THE REBIRTH TOUR SF ft. WU-TANG CLAN
DESCRIPTION:CLICK HERE TO WIN A PAIR OF TICKETS:\nhttp://www.trueskool
 .com/group/wintickets\n\n\nTHURSDAY, DEC 2\nNever Dying Productions Pr
 esents:\nTHE REBIRTH TOUR SF\n\nFeaturing:\nWU-TANG CLAN\nTHE JACKA\nD
 J M-ROCK\n\n@ Mezzanine, 444 Jessie Street @ Mint\nSan Francisco, Cali
 fornia 94103\nDOORS 9PM\nGeneral Admission $40\nVIP $55 | Limited Tick
 ets available.\nBuy Tickets\n(VIP Tickets get you access to the both s
 pacious upper Mezzanine level, as well as the lower level. Only those 
 with VIP Tickets are able to purchase bottle service.)\n\nThe Rebirth 
 Tour features the ALL-ORIGINAL Wu Tang Clan line up including RZA, GZA
 , Method Man, Raekwon, Ghostface, Inspectah Deck, U-God and Masta Kill
 ah. In such an intimate setting this will undoubtedly be one of the gr
 eatest Hip-Hop events of the year!\n\nDRESS CODE (no athletic wear, no
  sweats, no overly baggy clothing). Guests not complying with these re
 quirements will not be allowed inside. Admittance is up to the sole di
 scretion of MEZZANINE security staff.\n\nFor Bottle Service Call 415.6
 25.8880\n \n\nFor more information visit https://trueskool.com/events/
 the-rebirth-tour-sf-ft-wutang
DTSTART;TZID=America/Los_Angeles:20101202T210000
DTEND;TZID=America/Los_Angeles:20101203T020000
CATEGORIES:san, francisco, ca
LOCATION:Mezzanine, San Francisco
WEBSITE:http://therebirthtoursf.eventbrite.com/
URL:http://therebirthtoursf.eventbrite.com/
CONTACT:
ORGANIZER:Never Dying Productions
ATTACH;FMTTYPE="image/jpeg":http://storage.ning.com/topology/rest/1.0/
 file/get/2247887166?profile=original
ATTENDEE;ROLE=REQ-PARTICIPANT;PARTSTAT=ACCEPTED;RSVP=TRUE;CN="Ren the 
 Vinyl Archaeologist":https://trueskool.com/profile/xh51jvilojur
END:VEVENT
END:VCALENDAR
