BEGIN:VCALENDAR
PRODID:NingEventWidget-v1
VERSION:2.0
METHOD:PUBLISH
BEGIN:VTIMEZONE
TZID:America/Los_Angeles
X-LIC-LOCATION:America/Los_Angeles
BEGIN:DAYLIGHT
TZOFFSETFROM:-0800
TZOFFSETTO:-0700
TZNAME:PDT
DTSTART:19700308T020000
RRULE:FREQ=YEARLY;BYMONTH=3;BYDAY=2SU
END:DAYLIGHT
BEGIN:STANDARD
TZOFFSETFROM:-0700
TZOFFSETTO:-0800
TZNAME:PST
DTSTART:19701101T020000
RRULE:FREQ=YEARLY;BYMONTH=11;BYDAY=1SU
END:STANDARD
END:VTIMEZONE
BEGIN:VEVENT
UID:1464587:Event:318011
DTSTAMP:20260421T083846Z
SUMMARY:The Real Show Rewind: The Return Of The Hip Hop Legends (Chica
 go)
DESCRIPTION:\nThe Real Show Rewind: The Return Of The Hip Hop Legends\
 n\n\nDetails: Doug E. Fresh\n\n\nThe Chicago TheatreChicago, IL\n\nS
 at, 03/29/1408:00 PM\n\nFind Tickets »\n\n\n\n\n\nFor more informati
 on visit https://trueskool.com/events/the-real-show-rewind-the-return-
 of-the-hip-hop-legends-chicago
DTSTART;TZID=America/Los_Angeles:20140226T180000
DTEND;TZID=America/Los_Angeles:20140226T190000
CATEGORIES:chicago
LOCATION:The Chicago Theatre, Chicago
WEBSITE:http://www.ticketmaster.com/the-real-show-rewind-the-return-ch
 icago-illinois-03-29-2014/event/07004C440F71C88D?artistid=768870&major
 catid=10001&minorcatid=3&tm_link=browse_msg-0_07004C440F71C88D
URL:http://www.ticketmaster.com/the-real-show-rewind-the-return-chicag
 o-illinois-03-29-2014/event/07004C440F71C88D?artistid=768870&majorcati
 d=10001&minorcatid=3&tm_link=browse_msg-0_07004C440F71C88D
CONTACT:
ORGANIZER;CN="Editor's Pick":https://trueskool.com/profile/RentheVinyl
 Archaeologist
ATTACH;FMTTYPE="image/jpeg":http://storage.ning.com/topology/rest/1.0/
 file/get/2247957793?profile=original
ATTENDEE;ROLE=REQ-PARTICIPANT;PARTSTAT=ACCEPTED;RSVP=TRUE;CN="Editor's
  Pick":https://trueskool.com/profile/RentheVinylArchaeologist
END:VEVENT
END:VCALENDAR
