BEGIN:VCALENDAR
PRODID:NingEventWidget-v1
VERSION:2.0
METHOD:PUBLISH
BEGIN:VTIMEZONE
TZID:America/Los_Angeles
X-LIC-LOCATION:America/Los_Angeles
BEGIN:DAYLIGHT
TZOFFSETFROM:-0800
TZOFFSETTO:-0700
TZNAME:PDT
DTSTART:19700308T020000
RRULE:FREQ=YEARLY;BYMONTH=3;BYDAY=2SU
END:DAYLIGHT
BEGIN:STANDARD
TZOFFSETFROM:-0700
TZOFFSETTO:-0800
TZNAME:PST
DTSTART:19701101T020000
RRULE:FREQ=YEARLY;BYMONTH=11;BYDAY=1SU
END:STANDARD
END:VTIMEZONE
BEGIN:VEVENT
UID:1464587:Event:32548
DTSTAMP:20260422T044748Z
SUMMARY:The Rapture DJ's
DESCRIPTION:The Rapture DJ SET\nMIGHTY and popscene are pleased to pre
 sent an exclusive San Francisco performance by The Rapture DJ’s.\nTh
 e moment they released the international dancefloor hit “House of Je
 alous Lovers” in 2002, New York quartet The Rapture redefined the ti
 p of the indie iceberg fusing the skronk and chaos of punk with the pr
 ecision and funk of basement after-party disco beats. The Rapture open
 ed the floodgates for many to float through on the wave of this fresh 
 take on some vintage, party-forward sounds.\nWhile it’s easy to pin 
 the influence of Gang of Four, ESG, and Liquid Liquid on many of the f
 ollowers, The Rapture’s territory of beat mining goes deeper further
  and wider. The band have shown respect for forbearers as diverse as 
 70s New York disco progenitor Larry Levan, ‘80s Chicago acid house
  innovator Marshall Jefferson, historic party staples like Happy Monda
 ys, The Gap Band, Bizzare Inc and Incredible Bongo Band, as well as un
 likely sources like Sun Ra and Uriah Heep.\nPerhaps the best way to un
 derstand The Rapture is to stop worrying about genres and labels and s
 imply get into the music. The first new single from Pieces of the Peop
 le We Love, “Get Myself Into It” is a sweltery dance floor cut fue
 led by a bobbing bassline and jagged guitar bursts, and embellished wi
 th sultry saxophone and echoey percussion that show The Rapture circa 
 2006 bringing the party forward and pushin’ the positive. “It remi
 nds me of being at a big beach party on the Islands somewhere,” Jenn
 er says. “I used to have this idea that vocals were somehow valid if
  they sounded painful. But this time, I decided that I don’t need to
  hide behind that and that it’s okay to make something sound happy.
 \nOpening DJ set from DJ Omar of popscene\n\nThe Rapture DJs at MIGH
 TY\nFriday, June 12th | 10pm-4am\nhttp://www.wantickets.com/?e_id=5770
 5&res=carey\n\nFor more information visit https://trueskool.com/events
 /the-rapture-djs
DTSTART;TZID=America/Los_Angeles:20090612T220000
DTEND;TZID=America/Los_Angeles:20090613T040000
CATEGORIES:disco, hipster, dance
LOCATION:MIGHTY, San Francisco
WEBSITE:http://www.wantickets.com/?e_id=57705&res=carey
URL:http://www.wantickets.com/?e_id=57705&res=carey
CONTACT:
ORGANIZER;CN="Carey Kopp":https://trueskool.com/profile/k85
ATTACH;FMTTYPE="image/jpeg":http://storage.ning.com/topology/rest/1.0/
 file/get/2247857134?profile=original
ATTENDEE;ROLE=REQ-PARTICIPANT;PARTSTAT=ACCEPTED;RSVP=TRUE;CN="Carey Ko
 pp":https://trueskool.com/profile/k85
END:VEVENT
END:VCALENDAR
