BEGIN:VCALENDAR
PRODID:NingEventWidget-v1
VERSION:2.0
METHOD:PUBLISH
BEGIN:VTIMEZONE
TZID:America/Los_Angeles
X-LIC-LOCATION:America/Los_Angeles
BEGIN:DAYLIGHT
TZOFFSETFROM:-0800
TZOFFSETTO:-0700
TZNAME:PDT
DTSTART:19700308T020000
RRULE:FREQ=YEARLY;BYMONTH=3;BYDAY=2SU
END:DAYLIGHT
BEGIN:STANDARD
TZOFFSETFROM:-0700
TZOFFSETTO:-0800
TZNAME:PST
DTSTART:19701101T020000
RRULE:FREQ=YEARLY;BYMONTH=11;BYDAY=1SU
END:STANDARD
END:VTIMEZONE
BEGIN:VEVENT
UID:1464587:Event:656278
DTSTAMP:20260422T103504Z
SUMMARY:The Prince and MJ Experience
DESCRIPTION:\nThe Prince and Michael Experience with DJ Dave Paul insi
 de The Loft at Public Works - 161 Erie Street in San Francisco. Album 
 cuts, b-sides, un-released tracks, remixes, 12\" versions and hits fro
 m the two artists as well as songs by ancillary acts.   The Loft at P
 ublic Works  161 Erie St (off Mission btw 14th & Duboce) 9pm-2am / $8
  adv, $10 door / 21+ / no dress code  Collectively, Prince and Michael
  Jackson helped define the early-'80s era of MTV, revolutionized both 
 R&B and popular music, and influenced thousands of musicians worldwide
 . This dance party pays tribute to two of the greatest artists of our 
 time.  The music is far from the only thing happening at this party, t
 here's theme dancing, a face-off between guests repping The Purple One
  or The King of Pop, and much, much more. This is the perfect night ou
 t to lounge with your friends, make some new friends, get your drink o
 n and dance your @ss off.  \"For FOURTEEN years now, Dave Paul (propri
 etor of hip-hop label Bomb Records) has hosted and DJ'ed at the brilli
 ant \"Prince vs. Michael Jackson\" parties. As selections of hits, rar
 ities, and remixes from both artists are presented over the course of 
 the evening, audience members square off in funky battle, holding sign
 s bearing the mug of their favored entertainer to judge which one is t
 he true king of pop. This sure ain't the place for cynics, but Darling
  Nikki's and Dirty Diana's are all welcome to participate.\" - SF WEEK
 LY  Prince and MJ DJ Mix - http://bit.ly/mix_pm  Facebook Page - htt
 p://bit.ly/prmjfb  Website - http://bit.ly/pvsmj  ABOUT YOUR DJ: Dave
  Paul began his music career in 1984, starting as a mobile dj and evol
 ving into a prominent college radio dj, club dj, and remixer in San Fr
 ancisco. In 1991 he launched the now legendary publication The Bomb Hi
 p-Hop Magazine and in 1995 Paul transformed the magazine into a record
  label. The company was named \"one of the fifteen independent labels 
 that matter\" according to Rolling Stone and the labels Return of the 
 DJ series was ranked by Spin Magazine as #25 in their \"The 90 Greates
 t Albums of the 90's\" (Sept. 1999 issue), receiving a higher rating t
 han Gold & Platinum albums by Lauryn Hill, Pearl Jam, Metallica, Green
  Day and Fatboy Slim. Dave Paul has appeared on the front cover of Bil
 lboard magazine and is featured in the motion picture Scratch. Mr. Pau
 l has dj'ed throughout the US, toured Europe, released over 100 projec
 ts on his record label and currently produces themed dj parties includ
 ing the 14 year running Prince and Michael Experience.\n\nFor more inf
 ormation visit https://trueskool.com/events/the-prince-and-mj-experien
 ce
DTSTART;TZID=America/Los_Angeles:20161125T210000
DTEND;TZID=America/Los_Angeles:20161126T020000
CATEGORIES:san, francisco
LOCATION:Public Works, San Francisco, CA
WEBSITE:https://www.facebook.com/events/195833830871682/
URL:https://www.facebook.com/events/195833830871682/
CONTACT:
ORGANIZER;CN="Dave Paul":https://trueskool.com/profile/DavePaul
ATTACH;FMTTYPE="image/jpeg":http://storage.ning.com/topology/rest/1.0/
 file/get/2247994267?profile=original
ATTENDEE;ROLE=REQ-PARTICIPANT;PARTSTAT=ACCEPTED;RSVP=TRUE;CN="Dave Pau
 l":https://trueskool.com/profile/DavePaul
END:VEVENT
END:VCALENDAR
