BEGIN:VCALENDAR
PRODID:NingEventWidget-v1
VERSION:2.0
METHOD:PUBLISH
BEGIN:VTIMEZONE
TZID:America/Los_Angeles
X-LIC-LOCATION:America/Los_Angeles
BEGIN:DAYLIGHT
TZOFFSETFROM:-0800
TZOFFSETTO:-0700
TZNAME:PDT
DTSTART:19700308T020000
RRULE:FREQ=YEARLY;BYMONTH=3;BYDAY=2SU
END:DAYLIGHT
BEGIN:STANDARD
TZOFFSETFROM:-0700
TZOFFSETTO:-0800
TZNAME:PST
DTSTART:19701101T020000
RRULE:FREQ=YEARLY;BYMONTH=11;BYDAY=1SU
END:STANDARD
END:VTIMEZONE
BEGIN:VEVENT
UID:1464587:Event:451409
DTSTAMP:20260421T064649Z
SUMMARY:The Prince and Michael Experience
DESCRIPTION:\nPrince and Michael Jackson fans celebrate as DJ Dave Pau
 l plays music from the two artists as well as songs by ancillary acts.
 \nThe Loft at Public Works 161 Erie St (Off Mission Between Duboce and
  14th) San Francisco, CA 94103. $8 adv http://bit.ly/tix111514 / $10 
 at the door\n\nCollectively, Prince and Michael Jackson helped define 
 the early-'80s era of MTV, revolutionized both R&B and popular music, 
 and influenced thousands of musicians worldwide. This party pays tribu
 te to two of the greatest artists of our time.  The music is far from 
 the only thing happening at this party, there's theme dancing, a face-
 off between guests repping The Purple One or The King of Pop, and much
 , much more. This is the perfect night out to lounge with your friends
 , make some new friends, get your drink on, dance your @ss off and hav
 e the time of your life.  \"For TWELVE years now, Dave Paul (proprieto
 r of hip-hop label Bomb Records) has hosted and DJ'ed at the brilliant
  \"Prince vs. Michael Jackson\" parties. As selections of hits, rariti
 es, and remixes from both artists are presented over the course of the
  evening, audience members square off in funky battle, holding signs b
 earing the mug of their favored entertainer to judge which one is the 
 true king of pop. This sure ain't the place for cynics, but Darling Ni
 kki's and Dirty Diana's are all welcome to participate.\" - SF WEEKLY\
 n \nPR+MJ DJ Mix - http://www.mixcrate.com/bombhiphop/the-prince-and-
 michael-experience-2035910  Facebook Group - http://www.facebook.com/g
 roups/princeandmichael  Website - http://bit.ly/pvsm\n\nFor more infor
 mation visit https://trueskool.com/events/the-prince-and-michael-exper
 ience-2
DTSTART;TZID=America/Los_Angeles:20141115T210000
DTEND;TZID=America/Los_Angeles:20141116T020000
CATEGORIES:san, francisco, public, works
LOCATION:Public Works,San Francisco, CA
WEBSITE:http://bit.ly/tix111514
URL:http://bit.ly/tix111514
CONTACT:
ORGANIZER;CN="Dave Paul":https://trueskool.com/profile/DavePaul
ATTACH;FMTTYPE="image/jpeg":http://storage.ning.com/topology/rest/1.0/
 file/get/2247966628?profile=original
ATTENDEE;ROLE=REQ-PARTICIPANT;PARTSTAT=ACCEPTED;RSVP=TRUE;CN="Dave Pau
 l":https://trueskool.com/profile/DavePaul
END:VEVENT
END:VCALENDAR
