BEGIN:VCALENDAR
PRODID:NingEventWidget-v1
VERSION:2.0
METHOD:PUBLISH
BEGIN:VTIMEZONE
TZID:America/Los_Angeles
X-LIC-LOCATION:America/Los_Angeles
BEGIN:DAYLIGHT
TZOFFSETFROM:-0800
TZOFFSETTO:-0700
TZNAME:PDT
DTSTART:19700308T020000
RRULE:FREQ=YEARLY;BYMONTH=3;BYDAY=2SU
END:DAYLIGHT
BEGIN:STANDARD
TZOFFSETFROM:-0700
TZOFFSETTO:-0800
TZNAME:PST
DTSTART:19701101T020000
RRULE:FREQ=YEARLY;BYMONTH=11;BYDAY=1SU
END:STANDARD
END:VTIMEZONE
BEGIN:VEVENT
UID:1464587:Event:280407
DTSTAMP:20260421T110810Z
SUMMARY:The Prince and Michael Experience
DESCRIPTION: SATURDAY, DEC 7\nThe Prince and Michael Experience\nPrinc
 e and Michael Jackson fans celebrate on the dance floor as DJ Dave Pau
 l mixes album cuts, remixes, rare tracks and hits from the two artists
  as well as songs by such ancillary acts as Sheila E., The Jackson 5, 
 The Time and Janet Jackson.\nMadrone Art Bar - 500 Divisadero @ Fell, 
 San Francisco, CA 94117 8pm - 1:45am, $5, 21+.\n\nFor more information
  visit https://trueskool.com/events/the-prince-and-michael-experience-
 1
DTSTART;TZID=America/Los_Angeles:20131207T200000
DTEND;TZID=America/Los_Angeles:20131208T020000
CATEGORIES:"bay area", "san francisco"
LOCATION:Madrone Art Bar
WEBSITE:https://www.facebook.com/events/166335116906802/
URL:https://www.facebook.com/events/166335116906802/
CONTACT:
ORGANIZER:Dave Paul
ATTACH;FMTTYPE="image/jpeg":http://storage.ning.com/topology/rest/1.0/
 file/get/2247953120?profile=original
ATTENDEE;ROLE=REQ-PARTICIPANT;PARTSTAT=ACCEPTED;RSVP=TRUE;CN="Staff Pi
 ck":https://trueskool.com/profile/Ren
END:VEVENT
END:VCALENDAR
