BEGIN:VCALENDAR
PRODID:NingEventWidget-v1
VERSION:2.0
METHOD:PUBLISH
BEGIN:VTIMEZONE
TZID:America/Los_Angeles
X-LIC-LOCATION:America/Los_Angeles
BEGIN:DAYLIGHT
TZOFFSETFROM:-0800
TZOFFSETTO:-0700
TZNAME:PDT
DTSTART:19700308T020000
RRULE:FREQ=YEARLY;BYMONTH=3;BYDAY=2SU
END:DAYLIGHT
BEGIN:STANDARD
TZOFFSETFROM:-0700
TZOFFSETTO:-0800
TZNAME:PST
DTSTART:19701101T020000
RRULE:FREQ=YEARLY;BYMONTH=11;BYDAY=1SU
END:STANDARD
END:VTIMEZONE
BEGIN:VEVENT
UID:1464587:Event:30591
DTSTAMP:20260420T180745Z
SUMMARY:The Pharcyde
DESCRIPTION:A Live Nation Concert\nThe Pharcyde\n\nAll Ages\nSaturday 
 05/23/09 at 9:00 PM\nThe Fillmore\nSan Francisco, CA\n\nFor more infor
 mation visit https://trueskool.com/events/the-pharcyde
DTSTART;TZID=America/Los_Angeles:20090523T210000
DTEND;TZID=America/Los_Angeles:20090524T000000
CATEGORIES:hip, hop
LOCATION:The Fillmore, San Francisco, CA
WEBSITE:http://www.livenation.com
URL:http://www.livenation.com
CONTACT:
ORGANIZER:Live Nation
ATTACH;FMTTYPE="image/jpeg":http://storage.ning.com/topology/rest/1.0/
 file/get/2247856127?profile=original
ATTENDEE;ROLE=REQ-PARTICIPANT;PARTSTAT=ACCEPTED;RSVP=TRUE;CN="Ren the 
 Vinyl Archaeologist":https://trueskool.com/profile/xh51jvilojur
END:VEVENT
END:VCALENDAR
